BEGIN:VCALENDAR
VERSION:2.0
PRODID:-//wp-events-plugin.com//7.2.3.1//EN
TZID:Europe/Rome
X-WR-TIMEZONE:Europe/Rome
BEGIN:VEVENT
UID:41558@lazioeventi.com
DTSTART;TZID=Europe/Rome:20250518T090000
DTEND;TZID=Europe/Rome:20250518T180000
DTSTAMP:20250516T065845Z
URL:https://lazioeventi.com/eventi/mercatino-di-alatri
SUMMARY:Mercatino di Alatri - Alatri - 18 Maggio 25 09:00
DESCRIPTION:Il Mercatino di Alatri torna domenica 18 maggio 2025!\nViale Du
 ca D'Aosta – Alatri\nDalle ore 9:00 alle 18:00\n\nUn appuntamento fisso 
 ogni terza domenica del mese con:\n- Artigianato\n- Antiquariato\n- Curios
 ità e pezzi unici\n\nVieni a scoprire oggetti speciali e atmosfere d’al
 tri tempi in uno dei mercatini più amati del territorio!
ATTACH;FMTTYPE=image/jpeg:https://lazioeventi.com/wp-content/uploads/2025/
 05/mercatono-alatri.jpg
CATEGORIES:Fiere e Mercatini nel Lazio
LOCATION:Alatri\, Comune\, Alatri\, Frosinone\, Lazio\, Italia
GEO:41.7265;13.3421
X-APPLE-STRUCTURED-LOCATION;VALUE=URI;X-ADDRESS=Comune\, Alatri\, Frosinone
 \, Lazio\, Italia;X-APPLE-RADIUS=100;X-TITLE=Alatri:geo:41.7265,13.3421
END:VEVENT
BEGIN:VTIMEZONE
TZID:Europe/Rome
X-LIC-LOCATION:Europe/Rome
BEGIN:DAYLIGHT
DTSTART:20250330T030000
TZOFFSETFROM:+0100
TZOFFSETTO:+0200
TZNAME:CEST
END:DAYLIGHT
END:VTIMEZONE
END:VCALENDAR