BEGIN:VCALENDAR
VERSION:2.0
PRODID:-//wp-events-plugin.com//7.2.3.1//EN
TZID:Europe/Rome
X-WR-TIMEZONE:Europe/Rome
BEGIN:VEVENT
UID:33226@lazioeventi.com
DTSTART;TZID=Europe/Rome:20221204T090000
DTEND;TZID=Europe/Rome:20221204T180000
DTSTAMP:20221124T083948Z
URL:https://lazioeventi.com/eventi/mercatino-di-natale-cerreto-laziale
SUMMARY:Mercatino di Natale - Cerreto Laziale - 4 Dicembre 22 09:00
DESCRIPTION:Vi aspettiamo domenica 4 dicembre 2022 a partire dalle ore 9:00
  in Piazza Guglielmo Marconi per il tradizionale Mercatino di Natale.\n\nO
 ltre ai vari stands\, la Pro Loco organizzerà per pranzo una deliziosa po
 lentata in piazza!\n\nNon mancate! 
ATTACH;FMTTYPE=image/jpeg:https://lazioeventi.com/wp-content/uploads/2022/
 11/mercatino-natale-cerreto-laziale.jpg
CATEGORIES:Fiere e Mercatini nel Lazio
LOCATION:Cerreto Laziale\, Cerreto Laziale\, Cerreto Laziale\, Roma\, Lazio
 \, Italia
GEO:41.940618;12.982821
X-APPLE-STRUCTURED-LOCATION;VALUE=URI;X-ADDRESS=Cerreto Laziale\, Cerreto L
 aziale\, Roma\, Lazio\, Italia;X-APPLE-RADIUS=100;X-TITLE=Cerreto Laziale:
 geo:41.940618,12.982821
END:VEVENT
BEGIN:VTIMEZONE
TZID:Europe/Rome
X-LIC-LOCATION:Europe/Rome
BEGIN:STANDARD
DTSTART:20221030T020000
TZOFFSETFROM:+0200
TZOFFSETTO:+0100
TZNAME:CET
END:STANDARD
END:VTIMEZONE
END:VCALENDAR