BEGIN:VCALENDAR
VERSION:2.0
PRODID:-//wp-events-plugin.com//7.2.3.1//EN
TZID:Europe/Rome
X-WR-TIMEZONE:Europe/Rome
BEGIN:VEVENT
UID:27324@lazioeventi.com
DTSTART;TZID=Europe/Rome:20200820T070000
DTEND;TZID=Europe/Rome:20200823T230000
DTSTAMP:20200818T123031Z
URL:https://lazioeventi.com/eventi/mercato-del-forte-dei-marmi-terminillo
SUMMARY:Mercato del Forte dei Marmi - Rieti - 20 Agosto 20 07:00
DESCRIPTION:Passato Ferragosto e archiviate le trasferte al nord\, il tour 
 estivo dello shopping 200% Forte dei Marmi arriva al Terminillo\, localit
 à conosciuta anche come “la Montagna dei Romani”. Da giovedì 20 agos
 to fino a domenica 23\, ben quattro giorni 
ATTACH;FMTTYPE=image/jpeg:https://lazioeventi.com/wp-content/uploads/2020/
 08/TERMINILLO-2023AGO-Facebook.jpg
CATEGORIES:Fiere e Mercatini nel Lazio
LOCATION:Rieti\, Comune di Rieti\, Rieti\, Rieti\, Lazio\, Italia
GEO:42.403;12.8609
X-APPLE-STRUCTURED-LOCATION;VALUE=URI;X-ADDRESS=Comune di Rieti\, Rieti\, R
 ieti\, Lazio\, Italia;X-APPLE-RADIUS=100;X-TITLE=Rieti:geo:42.403,12.8609
END:VEVENT
BEGIN:VTIMEZONE
TZID:Europe/Rome
X-LIC-LOCATION:Europe/Rome
BEGIN:DAYLIGHT
DTSTART:20200329T030000
TZOFFSETFROM:+0100
TZOFFSETTO:+0200
TZNAME:CEST
END:DAYLIGHT
END:VTIMEZONE
END:VCALENDAR