BEGIN:VCALENDAR
VERSION:2.0
PRODID:-//wp-events-plugin.com//7.2.3.1//EN
TZID:Europe/Rome
X-WR-TIMEZONE:Europe/Rome
BEGIN:VEVENT
UID:38073@lazioeventi.com
DTSTART;TZID=Europe/Rome:20231220T223000
DTEND;TZID=Europe/Rome:20231220T234500
DTSTAMP:20231211T160706Z
URL:https://lazioeventi.com/eventi/mercoledi-serata-karaoke-con-messaggeri
 a-e-giochi-di-seduzione
SUMMARY:Mercoledì serata karaoke con messaggeria e giochi di seduzione - R
 oma - 20 Dicembre 23 22:30
DESCRIPTION:IL MERCOLEDì dalle 22:30 si accende la serata per eccellenza\,
  la serata dove il divertimento si miscela con la seduzione e la voglia di
  fare baldoria!\n\nLA MALANOCHE!\nMa cosa ha di tanto particolare questa s
 erata?\nMessaggeria\nKaraoke\nProve di Seduzione\n...non ti basta...?\n\nU
 na serata imperdibile per chi desidera divertirsi e mostrare il proprio ta
 lento con il Karaoke Inoltre fare nuove conoscenze non è mai stato cosi' 
 facile grazie alla Messaggeria.\n\nInfine per i più intraprendenti che ha
 nno voglia di mettersi in gioco si passa alla fase finale della serata con
 ...\nle divertentissime PROVE DI SEDUZIONE!!!\nEh si\, avete capito bene.\
 nDurante la serata verranno fatti diversi giochi\, in cui sarà possibile 
 vincere un gadget o uno shot\, ma la parte più bella viene proprio sul fi
 nale...\n\nOra ti starei chiedendo: "ma quali sono queste prove?!\n\n"Beh!
  Dovrai prenotare subito il tuo tavolo e partecipare alla serata per scopr
 irlo!!\n\nPRENOTA SUBITO:\n0686708250\nonline (attivo 24h)\nhttps://www.an
 gelirock.it/prenota-online/
ATTACH;FMTTYPE=image/jpeg:https://lazioeventi.com/wp-content/uploads/2023/
 12/MERCOLEDI.jpg
CATEGORIES:Sport, Tempo Libero e Divertimento nel Lazio
LOCATION:Roma\, Via Leopardi\, Roma\, Roma\, Lazio\, Italia
GEO:41.8942;12.5017
X-APPLE-STRUCTURED-LOCATION;VALUE=URI;X-ADDRESS=Via Leopardi\, Roma\, Roma\
 , Lazio\, Italia;X-APPLE-RADIUS=100;X-TITLE=Roma:geo:41.8942,12.5017
END:VEVENT
BEGIN:VTIMEZONE
TZID:Europe/Rome
X-LIC-LOCATION:Europe/Rome
BEGIN:STANDARD
DTSTART:20231029T020000
TZOFFSETFROM:+0200
TZOFFSETTO:+0100
TZNAME:CET
END:STANDARD
END:VTIMEZONE
END:VCALENDAR