BEGIN:VCALENDAR
VERSION:2.0
PRODID:-//wp-events-plugin.com//7.2.3.1//EN
TZID:Europe/Rome
X-WR-TIMEZONE:Europe/Rome
BEGIN:VEVENT
UID:27078@lazioeventi.com
DTSTART:20200725T193000Z
DTEND:20200725T220000Z
DTSTAMP:20200720T180609Z
URL:https://lazioeventi.com/eventi/michael-supnick-the-sweetwater-jazz-ban
 d
SUMMARY:Michael Supnick & The sweetwater jazz band - Fiumicino - 25 Luglio 
 20 20:30
DESCRIPTION:?????? ?? ?????? ????\, ???? ??? ??:??\, il quartetto guidato d
 a ??????? ?????? alla tromba\, trombone e voce e composto da ?????????? ??
 ??? al sax soprano/tenore e clarinetto\, ?????? ????????? al banjo e ?????
  “?????” ?’????? al basso tuba\, coinvolgerà il pubblico in una per
 formance interamente dedicata a Louis Armstrong\, ispirandosi allo stile d
 elle piccole orchestre che si incontravano nelle strade di New Orleans.\nP
 iccole band che si esibivano in parate musicali\, le cosiddette “street 
 parades”\, organizzate in occasione di feste pubbliche come il Mardi Gra
 s\, nel corso delle campagne elettorali\, durante l’arrivo o la partenza
  di un battello o per festeggiare un matrimonio come per accompagnare un f
 unerale… Intrattenimento e divertimento\, elementi connaturati in questo
  tipo di musica\, si intrecciano ed amalgamano con la creatività\, la can
 tabilità ed il virtuosismo proprio di tutti i componenti della SWEETWATER
  Jazz Band\, soprattutto del leader Michael Supnick\, cantante e multistru
 mentista\, un vero showman che ha calcato i palcoscenici dei più prestigi
 osi Festival Jazz italiani ed europei.\n\n??????? ?????????? ???? ?? ?? ??
 ????? ?? ?? ????????????\n\nPREVENDITA ONLINE\n\nORARI\n??:?? ????????? 
 – ??:?? ????????\n\nCOSTI\n????????: €??\,?? – ????????? €??\,??\n
 \nINFO E PRENOTAZIONI\n?????????? – ??????????\n????@????????????????.??
 ?
ATTACH;FMTTYPE=image/jpeg:https://lazioeventi.com/wp-content/uploads/2020/
 07/supnick.jpg
CATEGORIES:Musica, Spettacoli e Danza nel Lazio
LOCATION:Fiumicino\, Comune\, Fiumicino\, Roma\, Lazio\, Italia
GEO:41.8026;12.2551
X-APPLE-STRUCTURED-LOCATION;VALUE=URI;X-ADDRESS=Comune\, Fiumicino\, Roma\,
  Lazio\, Italia;X-APPLE-RADIUS=100;X-TITLE=Fiumicino:geo:41.8026,12.2551
END:VEVENT
END:VCALENDAR