BEGIN:VCALENDAR
VERSION:2.0
PRODID:-//wp-events-plugin.com//7.2.3.1//EN
TZID:Europe/Rome
X-WR-TIMEZONE:Europe/Rome
BEGIN:VEVENT
UID:28194@lazioeventi.com
DTSTART;TZID=Europe/Rome:20210313T190000
DTEND;TZID=Europe/Rome:20210313T203000
DTSTAMP:20210312T090605Z
URL:https://lazioeventi.com/eventi/micol-arpa-rock-in-concerto-dal-museo-c
 ambellotti
SUMMARY:Micol Arpa Rock in concerto dal Museo Cambellotti -  - 13 Marzo 21 
 19:00
DESCRIPTION:Nuovo appuntamento nell’ambito del bando La Cultura e l’Ar
 te al Tempo del COVID promosso dal Comune di Latina a sostegno della Cult
 ura\, messa così a dura prova in questo ultimo anno.\n\nSabato 13 marzo 
 alle ore 19.00 in diretta Facebook sarà trasmesso il concerto di Micol A
 rpa Rock presso il Museo Duilio Cambellotti. Il concerto è organizzato 
 dall’Associazione Big Soul Mama.\n\nMicol Arpa Rock è un’artista prod
 otta da Ventidieci che sta smentendo tutti i cliché legati a uno strument
 o antico come l’arpa. Si è diplomata al conservatorio a soli 18 anni ed
  è stata scelta dal Maestro Riccardo Muti per l’Orchestra Cherubini\, b
 en presto ha capito che il suo bisogno di esprimersi non poteva esaurirsi 
 con la sola musica classica e ha iniziato ad esibirsi per la strada a stre
 tto contatto con la gente rivisitando grandi classici del pop e del rock
  con la sua arpa.\n\nIl suo modo di suonare\, gli arrangiamenti\, la sua 
 energia l’hanno portata ben presto ad aprire concerti di artisti importa
 nti come PFM\, Goran Bregovic\, Edoardo Bennato\, Angelo Branduardi\, Aris
 a\, Simone Cristicchi\, e a partecipare a manifestazioni importanti come i
 l Festival Mondiale dell’Arpa a Rio de Janeiro e il concerto del Primo M
 aggio in diretta Rai da piazza San Giovanni a Roma.\n\nHa all’attivo be
 n due album il primo Arpa Rock caratterizzato da cover importanti che g
 iocano con i generi spaziando da Led Zeppelin ai Pink Floyd\, dai Genesis 
 a David Bowie e il secondo Play caratterizzato anche da brani inediti co
 mposti dalla giovane musicista.\n\nL’appuntamento è per sabato 13 marzo
  alle ore 19.00 sulla pagina Facebook del Comune di Latina
ATTACH;FMTTYPE=image/jpeg:https://lazioeventi.com/wp-content/uploads/2021/
 03/Micol-Arpa-Rock-in-concerto.jpg
CATEGORIES:Musica, Spettacoli e Danza nel Lazio
LOCATION:https://www.facebook.com/comunedilatina
END:VEVENT
BEGIN:VTIMEZONE
TZID:Europe/Rome
X-LIC-LOCATION:Europe/Rome
BEGIN:STANDARD
DTSTART:20201025T020000
TZOFFSETFROM:+0200
TZOFFSETTO:+0100
TZNAME:CET
END:STANDARD
END:VTIMEZONE
END:VCALENDAR