BEGIN:VCALENDAR
VERSION:2.0
PRODID:-//wp-events-plugin.com//7.2.3.1//EN
TZID:Europe/Rome
X-WR-TIMEZONE:Europe/Rome
BEGIN:VEVENT
UID:37283@lazioeventi.com
DTSTART;TZID=Europe/Rome:20231008T073000
DTEND;TZID=Europe/Rome:20231008T170000
DTSTAMP:20230930T100518Z
URL:https://lazioeventi.com/eventi/migliorano-sperlonga
SUMMARY:Migliorano - Sperlonga - Itri - 8 Ottobre 23 07:30
DESCRIPTION:Un panorama unico su Sperlonga!\nCOSA FAREMO?\nEscursione adatt
 a a tutti!\nDa località Migliorano\, attraverso un panoramico percorso\, 
 giungeremo a Sperlonga dove faremo un aperitivo al cospetto del Big Bench\
 , la panchina gigante inaugurata a Sperlonga.\n\nDETTAGLI TECNICI:\nItiner
 ario: Migliorano – Sperlonga\nDislivello: +550m\nLunghezza a/r: 14 Km\nT
 empi a/r: 6h (solo cammino)\nGrado di difficoltà: E (Escursionisti)\nVelo
 cità: Passo Lento\nAccompagnatore: Luigi e Claudio\nTrasporto: Auto propr
 ie\nPranzo: A sacco\nNote: Nessuna\n\nIL PROGRAMMA DELLA GIORNATA:\n– Or
 e 7:30 – Itri\, al “Pallone”\n– Ore 8:00 – Inizio escursione\n
 – Ore 16:30 – Termine escursione\n– Ore 17:00 – Arrivo a Itri\n\nP
 renotazione obbligatoria: entro le 16:00 del 7 ottobre 2023 esclusivamente
  mediante telefono/whatapp al n. 328.3744847\n\nCondivisione dei costi:\n
 – Soci Atargatis/FIE: nessuno\n– Non soci: €7\,00 (comprensiva di as
 sicurazione RCT ed infortuni)\nI soci Atargatis senza tessera FIE dovranno
  corrispondere ulteriori €3\,00 per l’assicurazione giornaliera.\n\nL
 ’Associazione Atargatis APS\, affiliata FIE (Federazione Italiana Escurs
 ionismo)\, è dotata di copertura RCT ed INFORTUNI sulle proprie attività
 .\n\nATTREZZATURA OBBLIGATORIA:\n– scarpe da trekking\,\n– pantaloni c
 omodi\,\n– maglia/maglietta traspirante\nCosa è necessario portare nell
 o zaino:\n– Borraccia della capacità di almeno 1\,5 litri d’acqua\,\n
 – mantella impermeabile\,\n– maglia di pile\,\n– guanti\,\n– cappe
 llo\,\n– frutta secca\,\n– pranzo al sacco\,\n– ricambio intimo (da 
 lasciare in macchina)\,\n– occhiali da sole.\n\nN.B. Chi sprovvisto di a
 deguati materiali non potrà partecipare all’escursione.\n\nAVVERTENZE:\
 nLa frequentazione della montagna comporta dei rischi comunque ineliminabi
 li e pertanto con la richiesta di iscrizione all’escursione il partecipa
 nte esplicitamente attesta e dichiara di non aver alcun impedimento fisico
  e psichico alla pratica dell’escursionismo\, di essere idoneo dal punto
  di vista medico e di avere una preparazione fisica adeguata alla difficol
 tà dell’escursione della quale conferma aver preso visione delle caratt
 eristiche.\n\nPER INFORMAZIONI ED ADESIONI:\nClaudio Maggiarra\, Tel. 328.
 3744847\neMail: info@atargatis.it
ATTACH;FMTTYPE=image/jpeg:https://lazioeventi.com/wp-content/uploads/2023/
 09/manifesto-migliorano.jpg
CATEGORIES:Sport, Tempo Libero e Divertimento nel Lazio
LOCATION:Itri\, Piazza Umberto I\, Itri\, Latina\, Lazio\, Italia
GEO:41.290876;13.531233
X-APPLE-STRUCTURED-LOCATION;VALUE=URI;X-ADDRESS=Piazza Umberto I\, Itri\, L
 atina\, Lazio\, Italia;X-APPLE-RADIUS=100;X-TITLE=Itri:geo:41.290876,13.53
 1233
END:VEVENT
BEGIN:VTIMEZONE
TZID:Europe/Rome
X-LIC-LOCATION:Europe/Rome
BEGIN:DAYLIGHT
DTSTART:20230326T030000
TZOFFSETFROM:+0100
TZOFFSETTO:+0200
TZNAME:CEST
END:DAYLIGHT
END:VTIMEZONE
END:VCALENDAR