BEGIN:VCALENDAR
VERSION:2.0
PRODID:-//wp-events-plugin.com//7.2.3.1//EN
TZID:Europe/Rome
X-WR-TIMEZONE:Europe/Rome
BEGIN:VEVENT
UID:33414@lazioeventi.com
DTSTART;TZID=Europe/Rome:20221215T213000
DTEND;TZID=Europe/Rome:20221215T230000
DTSTAMP:20221214T090900Z
URL:https://lazioeventi.com/eventi/mike-orange-in-concerto
SUMMARY:Mike Orange in concerto - Viterbo - 15 Dicembre 22 21:30
DESCRIPTION:Teatro San Leonardo e Bistrot del Teatro \nin collaborazione co
 n Band & Theatre Company \npresentano il concerto del cantautore milanese 
 Mike Orange\n\nMichele Arancio\, in arte Mike Orange\, nasce a Melzo (MI) 
 il 31luglio 1985. A 17 anni fonda la sua prima band\, suona punk-rock e co
 mincia a farsi largo nel mondo underground. Dopo le esperienze con Subgrup
 po Devasto e SOCS decide approda ad un nuovo nuovo progetto musicale\, imp
 rontato al cantautorato\, per dare voce a una diversa sensibilità.\n\nQue
 llo che ne esce è un progetto dalle atmosfere più pop\, raccolte\, con t
 esti che spaziano da racconti di vita personale a riflessioni più o meno 
 profonde sulla vita\, sulle relazioni e sui rapporti tra le persone.\n\nA 
 settembre 2020 esce il primo singolo "Parigi Berlino Ritorno" di cui c'è 
 anche un video realizzato dalla videomaker Federica Roselli\, seguito dal 
 singolo "#15agosto" nel gennaio 2022\, brano già uscito su una compilatio
 n di raccolta fondi a favore dell'Ospedale Giovanni XXIII di Bergamo\, in 
 prima linea nella lotta contro il Covid19.\n\nA febbraio 2021 esce il prim
 o EP\, "Arancio"\, composto di 5 brani ed edito da MPC Records. Il disco 
 è stato registrato e mixato da Fabio Intraina e masterizzato da Riccardo 
 Zambli al Trai Studio di Inzago (MI). Il disco ha la caratteristica di ess
 ere un disco molto live\, grazie all'apporto di Giangiorgio Giallo alla ba
 tteria\, Alberto Ubbiali alla chitarra elettrica\, Simone Mazzola al basso
  e Dario Sorano alle tastiere.\n\nL'EP\, anticipato dal singolo "Segrate"\
 , ottiene buone recensioni dalle riviste e i siti di settore (Rockit.it\, 
 IndieforBunnies\, Tracks\, Indie-zone) e avvia un tour che porta Mike Oran
 ge\, in solo con la sua chitarra o con la band\, a suonare su molti palchi
  per tutta l'Italia (Sanremo Rock\, Arci Bellezza di Milano\, Bloom di Mez
 zago\, tra gli altri). Durante l'estate 2021 il cantautore organizza con l
 'aiuto della booking agency Gigiabooking un tour in Centro Italia\, esiben
 dosi tra gli altri presso i Bagni Elsa di Fano (PU) e il Sottoscala9 di La
 tina.\n\nIn questo momento è in preparazione il nuovo disco del cantautor
 e\, la cui uscita è prevista per il 2023 e che sarà composto da 8 brani 
 registrati e mixati da febbraio a giugno 2022 presso il Loopstudio di Lati
 na da Luca Alfiero.\n\nSi esibirà per la prima volta a Viterbo giovedì 1
 5 dicembre presso il Bistrot del Teatro San Leonardo in un concerto chitar
 ra e voce dove proporrà tutti suoi ultimi successi ed in anteprima alcuni
  brani che saranno presenti nell'album che uscirà tra pochi mesi.\n
ATTACH;FMTTYPE=image/jpeg:https://lazioeventi.com/wp-content/uploads/2022/
 12/IMG-20221210-WA0029.jpg
CATEGORIES:Musica, Spettacoli e Danza nel Lazio
LOCATION:Viterbo\, Comune\, Viterbo\, Viterbo\, Lazio\, Italia
GEO:42.417;12.1051
X-APPLE-STRUCTURED-LOCATION;VALUE=URI;X-ADDRESS=Comune\, Viterbo\, Viterbo\
 , Lazio\, Italia;X-APPLE-RADIUS=100;X-TITLE=Viterbo:geo:42.417,12.1051
END:VEVENT
BEGIN:VTIMEZONE
TZID:Europe/Rome
X-LIC-LOCATION:Europe/Rome
BEGIN:STANDARD
DTSTART:20221030T020000
TZOFFSETFROM:+0200
TZOFFSETTO:+0100
TZNAME:CET
END:STANDARD
END:VTIMEZONE
END:VCALENDAR