BEGIN:VCALENDAR
VERSION:2.0
PRODID:-//wp-events-plugin.com//7.2.3.1//EN
TZID:Europe/Rome
X-WR-TIMEZONE:Europe/Rome
BEGIN:VEVENT
UID:28570@lazioeventi.com
DTSTART;TZID=Europe/Rome:20210926T173000
DTEND;TZID=Europe/Rome:20210926T193000
DTSTAMP:20210922T183934Z
URL:https://lazioeventi.com/eventi/mini-crociera-sul-tevere
SUMMARY:Mini Crociera sul Tevere - Roma - 26 Settembre 21 17:30
DESCRIPTION:Mini Crociera sul Tevere\, per godere della leggera brezza rinf
 rescante che soffia costante su questo\ncorso d’acqua.\nLa visita\, che 
 inizierà dal ponte Garibaldi fino a giungere al ponte Nenni\, ci consenti
 rà di rivivere la\nstoria della Caput Mundi e del suo corso d’acqua.\nI
 l Tevere è un fiume ricco di leggende e di miti\, il più interessante de
 i quali ci narra che fu Enea\, il\ncelebre eroe profugo da TROIA in cerca 
 di una patria\, a giungere nella zona dove sarà fondata\nRoma\, proprio r
 isalendo la foce del fiume che allora era noto come Albula\, per le sue ac
 que\nlimpide\; fu poi chiamato Tevere in onore di una divinità fluviale o
  forse di un Re chiamato\nTIBERINUS.\nQuesto corso d’acqua ha rappresent
 ato da sempre un elemento importante nella nascita e nello\nsviluppo delle
  città. Il Tevere era una fonte vitale\, una via di comunicazione primari
 a e una difesa\nnaturale. Ha sempre avuto un ruolo fondamentale nella stor
 ia della Roma imperiale. Se ne trova\ntraccia già nelle leggende sulla fo
 ndazione della città\, quando Romolo e Remo furono abbandonati\nsulle sue
  sponde.\nOggi le sue acque attraversano placide la Città\, imbrigliate d
 agli alti muraglioni costruiti alla fine\ndel XIX secolo. Molti tratti del
  suo corso sono navigabili e regalano scorci irripetibili e itinerari di\n
 visita inconsueti: storia\, natura e romanticismo si fondono lungo le sue 
 sponde di rara bellezza.\nAlla fine della mini crociera\, visiteremo l’I
 sola Tiberina\, la più piccola isola fluviale al mondo\, sede\ndell’ant
 ico culto legato al dio della medicina Esculapio\, e racconteremo la stori
 a e le leggende\nlegate indissolubilmente alla sua storia.\n\nAPPUNTAMENTO
  LUNGOTEVERE ANGUILLARA\, lato Trastevere-molo Navigazione Tevere.\nDurata
  visita guidata: 2h e 00\nInizio visita ore 17:30 – fine visita ore 19:3
 0.\nCosto visita guidata: 20 euro adulti\, 15 euro ragazzi fino ai 18 anni
  e 5 euro fino a dieci anni.\nIl prezzo include la visita guidata e il big
 lietto navigazione Tevere.\nEventuali auricolari (per gruppi superiori all
 e 15 unità): costo 2\,00 euro.\nPer prenotazione chiamare il numero 335.8
 1.45.599 (Nunzia) o scrivere alla mail:\nnunzarbol@gmail.com specificando 
 nome\, numero persone e recapito telefonico.\nN.B. La prenotazione è indi
 spensabile per ricevere conferma e per essere contattati in caso di\nvaria
 zioni.
ATTACH;FMTTYPE=image/jpeg:https://lazioeventi.com/wp-content/uploads/2021/
 09/minicrociera-1.jpg
CATEGORIES:Arte e Cultura nel Lazio
LOCATION:Roma\, Via Leopardi\, Roma\, Roma\, Lazio\, Italia
GEO:41.8942;12.5017
X-APPLE-STRUCTURED-LOCATION;VALUE=URI;X-ADDRESS=Via Leopardi\, Roma\, Roma\
 , Lazio\, Italia;X-APPLE-RADIUS=100;X-TITLE=Roma:geo:41.8942,12.5017
END:VEVENT
BEGIN:VTIMEZONE
TZID:Europe/Rome
X-LIC-LOCATION:Europe/Rome
BEGIN:DAYLIGHT
DTSTART:20210328T030000
TZOFFSETFROM:+0100
TZOFFSETTO:+0200
TZNAME:CEST
END:DAYLIGHT
END:VTIMEZONE
END:VCALENDAR