BEGIN:VCALENDAR
VERSION:2.0
PRODID:-//wp-events-plugin.com//7.2.3.1//EN
TZID:Europe/Rome
X-WR-TIMEZONE:Europe/Rome
BEGIN:VEVENT
UID:28726@lazioeventi.com
DTSTART;TZID=Europe/Rome;VALUE=DATE:20211015
DTEND;TZID=Europe/Rome;VALUE=DATE:20211018
DTSTAMP:20211012T084336Z
URL:https://lazioeventi.com/eventi/miseria-bella-di-peppino-de-filippo
SUMMARY:“Miseria Bella” di Peppino De Filippo - San Cesareo - 15 Ottobr
 e 21 00:00
DESCRIPTION:Il 15 e il 16 ottobre alle ore 21.00 e domenica 17 ottobre alle
  ore 18\,30 l’associazione “Marionette senza fili” tornerà finalme
 nte sul palco\, dopo lo stop forzato di un anno a causa della pandemia\, p
 ortando in scena la commedia “Miseria Bella” di Peppino De Filippo. U
 n’occasione per tornare a ridere insieme al nostro amato pubblico!\n\nDu
 e squattrinati artisti\, il pittore Vittorio Floscio (Alberto Parsi) ed 
 il più giovane scultore Eduardo Morelli (Claudio Tagliacozzo)\, vivono\,
  se così si può dire\, in una stanzetta in affitto in un palazzo alquant
 o fatiscente.\nLa fame e la debolezza accompagnano i due nelle brevi ma in
 tense vicende che li vedono coinvolti nella disperazione del loro stato. E
 d allora i due si barcameno\, tra gag e battute\, fingendosi grandi artis
 ti dapprima con Pasqualina la portiera (Jessica Ritarossi) e Gustavo il 
 Maìtre del ristorante (Paolo Cirillo)\, poi con il benestante Nicola Mel
 asecca (Andrea Stocco) e la nobile Baronessa Giulia (Manuela Serpetti).
  Ovviamente incalzano una figuraccia dietro l'altra\, riuscendo con diffic
 oltà a reggersi in piedi per i morsi della fame. Quando anche Giulia\, al
 la quale era stato promesso un bozzetto va via dalla casa uno spiraglio d
 i luce\, sottoforma di cibo\, illumina i due poveracci\, ma la giornata è
  solo a metà… A conclusione di una terrificante giornata si presenta 
 “l’ingombrante” figura del Padron di casa Sig. Rolando (Angelo Giov
 annetti) che non solo pretende il fitto mensile\, ma è pronto a sbatter 
 fuori i due poveracci.\nMa l’ingegno degli artisti non ha davvero limiti
 … …ne vedremo delle belle… Un vero e proprio toccasana per il cuore 
 e l’animo degli appassionati poter tornare a teatro\, ammirare gli attor
 i e vivere le loro mille avventure dal palco alla poltrona. Una commedia c
 on risate e divertimento garantito!\n\nSi potrà accedere a teatro solo se
  provvisti di greenpass ed indossando la mascherina.\n\nBIGLIETTI: Ingress
 o intero euro 13\,00\; ridotto euro 9\,00 (under 20 e over 65)\; omaggio f
 ino ai 5 anni.€eur\n\nNon mancate!
ATTACH;FMTTYPE=image/jpeg:https://lazioeventi.com/wp-content/uploads/2021/
 10/miseria-bella.jpg
CATEGORIES:Musica, Spettacoli e Danza nel Lazio
LOCATION:San Cesareo\, Comune\, San Cesareo\, Roma\, Lazio\, Italia
GEO:41.8197;12.8008
X-APPLE-STRUCTURED-LOCATION;VALUE=URI;X-ADDRESS=Comune\, San Cesareo\, Roma
 \, Lazio\, Italia;X-APPLE-RADIUS=100;X-TITLE=San Cesareo:geo:41.8197,12.80
 08
END:VEVENT
BEGIN:VTIMEZONE
TZID:Europe/Rome
X-LIC-LOCATION:Europe/Rome
BEGIN:DAYLIGHT
DTSTART:20210328T030000
TZOFFSETFROM:+0100
TZOFFSETTO:+0200
TZNAME:CEST
END:DAYLIGHT
END:VTIMEZONE
END:VCALENDAR