BEGIN:VCALENDAR
VERSION:2.0
PRODID:-//wp-events-plugin.com//7.2.3.1//EN
TZID:Europe/Rome
X-WR-TIMEZONE:Europe/Rome
BEGIN:VEVENT
UID:30656@lazioeventi.com
DTSTART;TZID=Europe/Rome:20220616T170000
DTEND;TZID=Europe/Rome:20220616T183000
DTSTAMP:20220427T051256Z
URL:https://lazioeventi.com/eventi/mitos-e-logos-nella-grecia-antica
SUMMARY:Mitos e logos nella Grecia antica - Tuscania - 16 Giugno 22 17:00
DESCRIPTION:Actas Tuscania ha il piacere di presentare “Incontri Filosofi
 a” tre appuntamenti culturali sulla filosofia.\n\nEcco il calendario:\nG
 iovedì 16 giugno (ore 17:00-18:30): Il sogno e la storia: mitos e logos n
 ella Grecia antica\nA cura del professore Ugo stincarelli\n\nInfo:\nPalazz
 o Fani\nVia della Libertà\, 23 – Tuscania\nINGRESSO 2€ PER CONTRIBUTO
  SPESE
ATTACH;FMTTYPE=image/jpeg:https://lazioeventi.com/wp-content/uploads/2022/
 04/22_03_15_ACTAS_INCONTRI-DI-FILOSOFIA-03.jpg
CATEGORIES:Arte e Cultura nel Lazio
LOCATION:Tuscania\, Comune\, Tuscania\, Viterbo\, Lazio\, Italia
GEO:42.4162;11.8761
X-APPLE-STRUCTURED-LOCATION;VALUE=URI;X-ADDRESS=Comune\, Tuscania\, Viterbo
 \, Lazio\, Italia;X-APPLE-RADIUS=100;X-TITLE=Tuscania:geo:42.4162,11.8761
END:VEVENT
BEGIN:VTIMEZONE
TZID:Europe/Rome
X-LIC-LOCATION:Europe/Rome
BEGIN:DAYLIGHT
DTSTART:20220327T030000
TZOFFSETFROM:+0100
TZOFFSETTO:+0200
TZNAME:CEST
END:DAYLIGHT
END:VTIMEZONE
END:VCALENDAR