BEGIN:VCALENDAR
VERSION:2.0
PRODID:-//wp-events-plugin.com//7.2.3.1//EN
TZID:Europe/Rome
X-WR-TIMEZONE:Europe/Rome
BEGIN:VEVENT
UID:43946@lazioeventi.com
DTSTART;TZID=Europe/Rome:20260308T073000
DTEND;TZID=Europe/Rome:20260308T173000
DTSTAMP:20260304T200855Z
URL:https://lazioeventi.com/eventi/monte-belvedere
SUMMARY:Monte Belvedere - Esperia - 8 Marzo 26 07:30
DESCRIPTION:L'escursione su Monte Belvedere\, partendo dalla località Tass
 o ad Esperia\, è una delle classiche più suggestive del Parco Naturale d
 ei Monti Aurunci.\nPartendo da Località Tasso attraverseremo Campo di Ven
 za per poi salire su Monte Belvedere.\nEssendo programmata per l'8 marzo\,
  ti troverai in un momento di passaggio perfetto per godere dei primi timi
 di segnali della primavera.\nDETTAGLI TECNICI:\n\nItinerario: Contrada Tas
 so - Campo di Venza - Monte Belvedere\nDislivello complessivo: +500mt\nLun
 ghezza a/r: 9 Km\nTempi a/r: 4h 30m\nGrado di difficoltà: Escursionistico
 \nCoordinatore: AE Anna Molisso - AE Giovanni Macrino\nPasso: Medio\nTrasp
 orto: Auto proprie\nPranzo: A sacco\nNote: Nel primo tratto potrebbe esser
 ci del fango\nAccompagnatori: AE Luigi Conte - AE Anna Molisso - AE Antoni
 o Trinca - AE Giovanni Macrino - AE Vito Altamura\nIL PROGRAMMA DELLA GIOR
 NATA:\n\n 	Ore 7:30 - Itri presso il "Pallone"\n 	Ore 8:00 - Spigno Saturn
 ia presso "Bar Mirò"\n 	Ore 8:30 - Esperia presso "Bar Il Castello"\n 	Or
 e 10:00 - Inizio escursione\n 	Ore 15:30 - Termine escursione\n 	Ore 16:00
  - Sosta per condivisione\n 	Ore 17:00 - Arrivo a Spigno Saturnia\n 	Ore 1
 7:30 - Arrivo a Itri.\n\nLa partecipazione all’escursione è aperta a tu
 tti con prenotazione obbligatoria mediante telefono/whatsapp al n. 339.369
 6900\n\nCosti della giornata:\n\n 	Per i Soci: Nessuno\n 	Per in NON Soci:
  €10\,00 (Assicurazione infortuni giornaliera)\n\nN.B.: Gli accompagnato
 ri e coordinatori dell'associazione Atargatis APS non prendono alcun compe
 nso\, il loro accompagnamento è sempre a titolo completamente gratuito fa
 tta eccezione per eventuali rimborsi su eventuali costi\, li dove fossero 
 stati affrontati.\nL’Associazione Atargatis APS\, affiliata FIE (Federaz
 ione Italiana Escursionismo)\, è dotata di copertura RCT ed INFORTUNI per
  i propri soci durante tutto l'anno.\nI partecipanti che avranno attivato 
 esclusivamente l'assicurazione giornaliera sono coperti solamente dall'ass
 icurazione INFORTUNI.\n&nbsp\;\nATTREZZATURA OBBLIGATORIA:\n- scarpe da tr
 ekking\,\n- pantaloni comodi\,\n- maglia/maglietta traspirante\,\n- ... e 
 tanta allegria!\nCosa è necessario portare nello zaino:\n- Borraccia dell
 a capacità di almeno 1\,5 litri d’acqua\,\n- mantella impermeabile\,\n-
  maglia di pile\,\n- guanti\,\n- cappello\,\n- frutta secca\,\n- pranzo al
  sacco\,\n- eventuale ricambio completo (da lasciare in macchina/bus)\,\n-
  occhiali da sole.\n\nN.B. Chi sprovvisto di adeguati materiali non potrà
  partecipare all'escursione.\n\nAVVERTENZE:\nLa frequentazione della monta
 gna comporta dei rischi comunque ineliminabili e pertanto con la richiesta
  di iscrizione all’escursione il partecipante esplicitamente attesta e d
 ichiara di non aver alcun impedimento fisico e psichico alla pratica dell
 ’escursionismo\, di essere idoneo dal punto di vista medico e di avere u
 na preparazione fisica adeguata alla difficoltà dell’escursione della q
 uale conferma aver preso visione delle caratteristiche.\nPER INFORMAZIONI 
 ED ADESIONI:\nAE Anna Molisso\, Tel. 339.3696900\nAE Giovanni Macrino\, Te
 l. 378.0895006\neMail: info@atargatis.it
ATTACH;FMTTYPE=image/jpeg:https://lazioeventi.com/wp-content/uploads/2026/
 03/Manifesto-Belvedere-Pagina001.jpeg
CATEGORIES:Sport, Tempo Libero e Divertimento nel Lazio
LOCATION:Esperia\, Comune\, Esperia\, Frosinone\, Lazio\, Italia
GEO:41.3855;13.685
X-APPLE-STRUCTURED-LOCATION;VALUE=URI;X-ADDRESS=Comune\, Esperia\, Frosinon
 e\, Lazio\, Italia;X-APPLE-RADIUS=100;X-TITLE=Esperia:geo:41.3855,13.685
END:VEVENT
BEGIN:VTIMEZONE
TZID:Europe/Rome
X-LIC-LOCATION:Europe/Rome
BEGIN:STANDARD
DTSTART:20251026T020000
TZOFFSETFROM:+0200
TZOFFSETTO:+0100
TZNAME:CET
END:STANDARD
END:VTIMEZONE
END:VCALENDAR