BEGIN:VCALENDAR
VERSION:2.0
PRODID:-//wp-events-plugin.com//7.2.3.1//EN
TZID:Europe/Rome
X-WR-TIMEZONE:Europe/Rome
BEGIN:VEVENT
UID:22596@lazioeventi.com
DTSTART:20220917T080000Z
DTEND:20220918T180000Z
DTSTAMP:20220829T150240Z
URL:https://lazioeventi.com/eventi/monte-campatri-tra-i-fiori
SUMMARY:Monte Compatri tra i fiori - Monte Compatri - 17 Settembre 22 09:00
DESCRIPTION:Giunta alla quarta edizione\, “Monte Compatri tra i fiori” 
 sta diventando una delle più importanti mostre mercato del settore nella 
 provincia romana. \nL’appuntamento è per sabato 17 e domenica 18 settem
 bre dalle ore 9 alle 19 in viale Busnago (La Passeggiata) per l’evento o
 rganizzato da Tiziano Croce\, titolare del vivaio Rosso Tiziano\, in colla
 borazione con il comune di Monte Compatri.\n\nDecine di importanti aziende
  del settore florovivaistico incontrano gli hobbisti in una fiera mercato 
 che richiama l’atmosfera e le tradizioni delle vecchie fiere\, coniugand
 ola però con la modernità e l’abbondanza dell’offerta. Rose antiche\
 , piante grasse\, acquatiche\, orchidee\, pelargoni\, aromatiche\, tilland
 sie\, peperoncini: sono solo alcune delle varietà che si potranno trovare
  e acquistare sui banchi dei produttori provenienti da diverse parti d’I
 talia.\n\nDurante i due giorni di mostra mercato\, a partire dalle ore 17\
 , ci sarà spazio anche per spettacoli circensi di intrattenimento per gra
 ndi e piccini. \n\n“Dopo l’Estate Monticiana\, diamo con piacere appun
 tamento per questo evento di altissima qualità invitando gli appassionati
  a immergersi nel meraviglioso e variopinto mondo del florovivaismo  – s
 piega l’assessore alla Cultura e al Turismo\, Serena Gara – Mi auguro 
 anche che i visitatori possano trovare prodotti di proprio gradimento e tr
 a i banchi dei tanti espositori presenti in questi due giorni. \nUn ringra
 ziamento agli organizzatori che rappresentano una vera e propria eccellenz
 a del nostro territorio e che nonostante questo periodo così difficile so
 no riusciti con il supporto del comune di Monte Compatri a coinvolgere num
 erose aziende produttive\, in grado di garantire un’offerta diversificat
 a e completa”.\n\nPer info Tiziano Cell. 331/2344962
ATTACH;FMTTYPE=image/jpeg:https://lazioeventi.com/wp-content/uploads/2020/
 08/locandina-fiori.jpg
CATEGORIES:Fiere e Mercatini nel Lazio
LOCATION:Monte Compatri\, Comune\, Monte Compatri\, Roma\, Lazio\, Italia
GEO:41.8081;12.7372
X-APPLE-STRUCTURED-LOCATION;VALUE=URI;X-ADDRESS=Comune\, Monte Compatri\, R
 oma\, Lazio\, Italia;X-APPLE-RADIUS=100;X-TITLE=Monte Compatri:geo:41.8081
 ,12.7372
END:VEVENT
END:VCALENDAR