BEGIN:VCALENDAR
VERSION:2.0
PRODID:-//wp-events-plugin.com//7.2.3.1//EN
TZID:Europe/Rome
X-WR-TIMEZONE:Europe/Rome
BEGIN:VEVENT
UID:43114@lazioeventi.com
DTSTART;TZID=Europe/Rome:20251123T080000
DTEND;TZID=Europe/Rome:20251123T160000
DTSTAMP:20251117T122418Z
URL:https://lazioeventi.com/eventi/monte-gemma-creste-e-antiche-faggete
SUMMARY:Monte Gemma: creste e antiche faggete - Supino - 23 Novembre 25 08:
 00
DESCRIPTION:Il Monte Gemma è un balcone panoramico sul frusinate.\nIl sen
 tiero inizia tra pianori carsici dalle forme morbide\, segnati da profonde
  doline che raccontano una terra antica per poi addentrarsi tra secolari e
  segrete faggete dove la luce filtra sottile tra le fronde. Qui ci attende
  il grande faggio\, oltre sei metri d’altezza e più di tre secoli di v
 ita: un guardiano silenzioso\, narratore della storia del bosco.\nPoi il p
 aesaggio si apre. Dall’alto tutto cambia proporzione: i cavalli allo sta
 to brado sembrano macchie in movimento sui prati e lungo le creste panoram
 iche lo sguardo corre libero\, seguendo la linea dell’orizzonte che dal
 l’Abruzzo arriva fino al Circeo\, dalle montagne al mare.\n\nDifficoltà
  percorso: E (Escursionistico)\nLunghezza percorso: 12 km\nDislivello: 500
  mt\nDURATA PERCORSO: circa 7 ore\n\nOre 8\,30 presso il Twin'sBar Piazza 
 J.F. Kennedy\, Supino (FR).\n\nGuida: GAE Giovanni Ronci - per info 348 00
 34055\, e-mail: gotrekk@gotrekk.it\nIscritto al Registro Nazionale AIGAE\,
  Associazione Italiana Guide Ambientali Escursionistiche Tessera N° LA389
 \, operante nel settore in base alla Legge 4/2013.\n\nGuida: GAE Emanuela 
 Testa - per info 327 6207758\, e-mail: gotrekk@gotrekk.it\nIscritto al Reg
 istro Nazionale AIGAE\, Associazione Italiana Guide Ambientali Escursionis
 tiche Tessera N° LA614\, operante nel settore in base alla Legge 4/2013.\
 n\nCosa Portare: abbigliamento e scarpe da trekking\, consigliati i baston
 cini\, guscio o giacca antipioggia\, pile\, cappello\, guanti\, zaino\, pr
 anzo al sacco\, acqua (almeno 1\,5 lt) e quanto altro si ritenga necessari
 o.\n\nL'escursione potrà subire modifiche\, ad insindacabile giudizio del
 la Guida\, a causa di eventi che possano compromettere la sicurezza del gr
 uppo o dei singoli partecipanti.\n\nQuote di partecipazione:\n€ 15\,00 e
 scursione
ATTACH;FMTTYPE=image/jpeg:https://lazioeventi.com/wp-content/uploads/2025/
 11/2-1.webp
CATEGORIES:Sport, Tempo Libero e Divertimento nel Lazio
LOCATION:Supino\, Via del Calvone\, Supino\, Frosinone\, Lazio\, Italia
GEO:41.6119;13.2316
X-APPLE-STRUCTURED-LOCATION;VALUE=URI;X-ADDRESS=Via del Calvone\, Supino\, 
 Frosinone\, Lazio\, Italia;X-APPLE-RADIUS=100;X-TITLE=Supino:geo:41.6119,1
 3.2316
END:VEVENT
BEGIN:VTIMEZONE
TZID:Europe/Rome
X-LIC-LOCATION:Europe/Rome
BEGIN:STANDARD
DTSTART:20251026T020000
TZOFFSETFROM:+0200
TZOFFSETTO:+0100
TZNAME:CET
END:STANDARD
END:VTIMEZONE
END:VCALENDAR