BEGIN:VCALENDAR
VERSION:2.0
PRODID:-//wp-events-plugin.com//7.2.3.1//EN
TZID:Europe/Rome
X-WR-TIMEZONE:Europe/Rome
BEGIN:VEVENT
UID:41813@lazioeventi.com
DTSTART;TZID=Europe/Rome:20250627T180000
DTEND;TZID=Europe/Rome:20250629T234500
DTSTAMP:20250611T073634Z
URL:https://lazioeventi.com/eventi/montecelio-medieval-fest
SUMMARY:Montecelio Medieval Fest - Guidonia Montecelio - 27 Giugno 25 18:00
DESCRIPTION:Un evento di rievocazione del XV secolo con accampamenti\, uomi
 ni in arme\, falconieri\, giullari e molto altro.\n\nGrazie alla collabora
 zione tra la ProLoco di montecelio ed il Museo Archeologico Rodolfo Lancia
 ni abbiamo la possibilità di offrirvi un evento unico nel Lazio.
ATTACH;FMTTYPE=image/jpeg:https://lazioeventi.com/wp-content/uploads/2025/
 06/locandina-leggera.jpg
CATEGORIES:Arte e Cultura nel Lazio,Musica, Spettacoli e Danza nel Lazio
LOCATION:Guidonia Montecelio\, Comune\, Guidonia Montecelio\, Roma\, Lazio\
 , Italia
GEO:42;12.7264
X-APPLE-STRUCTURED-LOCATION;VALUE=URI;X-ADDRESS=Comune\, Guidonia Monteceli
 o\, Roma\, Lazio\, Italia;X-APPLE-RADIUS=100;X-TITLE=Guidonia Montecelio:g
 eo:42,12.7264
END:VEVENT
BEGIN:VTIMEZONE
TZID:Europe/Rome
X-LIC-LOCATION:Europe/Rome
BEGIN:DAYLIGHT
DTSTART:20250330T030000
TZOFFSETFROM:+0100
TZOFFSETTO:+0200
TZNAME:CEST
END:DAYLIGHT
END:VTIMEZONE
END:VCALENDAR