BEGIN:VCALENDAR
VERSION:2.0
PRODID:-//wp-events-plugin.com//7.2.3.1//EN
TZID:Europe/Rome
X-WR-TIMEZONE:Europe/Rome
BEGIN:VEVENT
UID:36722@lazioeventi.com
DTSTART;TZID=Europe/Rome:20230910T090000
DTEND;TZID=Europe/Rome:20230910T170000
DTSTAMP:20230816T193159Z
URL:https://lazioeventi.com/eventi/montelibretti-bike-fest
SUMMARY:Montelibretti Bike Fest - Montelibretti - 10 Settembre 23 09:00
DESCRIPTION:Montelibretti Bike Fest\nPedala con Noi\nSeconda Edizione\n10 s
 ettembre 2023\nConcepito da un piccolo gruppo di individui che percepiscon
 o nelle opportunità offerte dal nostro territorio una possibilità di con
 oscenza\, interazione\, divertimento puro e relax.\nIl Montelibretti Bike 
 Fest è un evento rivolto a grandi e piccoli che propone un giro in bicicl
 etta guidato con visite e degustazioni presso le aziende locali\, momenti 
 di intrattenimento ed una interessante proposta enogastronomica per scopri
 re profumi e sapori della Sabina Romana.\n\nLa seconda edizione avrà luog
 o il 10 settembre 2023\nE ci presenta alcune novità tra cui:\n\n- una vis
 ita guidata dell'Allevamento Statale di Cavalli Lipizzano\, sito entrato a
  far parte del patrimonio storico e culturale UNESCO\n\n- un maggiore nume
 ro di biciclette classiche ed elettriche disponibili per il noleggio onlin
 e sul sito web dedicato: www.montelibrettibikefest.it\n\nVi aspettiamo!\n\
 n--\n\nPer informazioni:\n\nMontelibretti Bike Fest\n\n(39) 338 505 5106 -
  (39) 333 753 1542 - (39) 392 324 6821\ninfo@prolocomontelibretti.it\ninfo
 @montelibrettibikefest.it\nwww.montelibrettibikefest.it
ATTACH;FMTTYPE=image/jpeg:https://lazioeventi.com/wp-content/uploads/2023/
 08/ps-01.jpg
CATEGORIES:Sagre, Gastronomia e Tradizioni nel Lazio,Sport, Tempo Libero e
 Divertimento nel Lazio
LOCATION:Montelibretti\, Comune\, Montelibretti\, Roma\, Lazio\, Italia
GEO:42.1348;12.739
X-APPLE-STRUCTURED-LOCATION;VALUE=URI;X-ADDRESS=Comune\, Montelibretti\, Ro
 ma\, Lazio\, Italia;X-APPLE-RADIUS=100;X-TITLE=Montelibretti:geo:42.1348,1
 2.739
END:VEVENT
BEGIN:VTIMEZONE
TZID:Europe/Rome
X-LIC-LOCATION:Europe/Rome
BEGIN:DAYLIGHT
DTSTART:20230326T030000
TZOFFSETFROM:+0100
TZOFFSETTO:+0200
TZNAME:CEST
END:DAYLIGHT
END:VTIMEZONE
END:VCALENDAR