BEGIN:VCALENDAR
VERSION:2.0
PRODID:-//wp-events-plugin.com//7.2.3.1//EN
TZID:Europe/Rome
X-WR-TIMEZONE:Europe/Rome
BEGIN:VEVENT
UID:29680@lazioeventi.com
DTSTART;TZID=Europe/Rome:20220109T093000
DTEND;TZID=Europe/Rome:20220109T153000
DTSTAMP:20211230T085735Z
URL:https://lazioeventi.com/eventi/monterano-wild-con-nomos-trek-2
SUMMARY:Monterano wild con Nomos Trek - Canale Monterano - 9 Gennaio 22 09:
 30
DESCRIPTION:Fuga dagli stravizi dei cibi festivi ...è ora di tornare in na
 tura.\nPer questo vi aspetto per un avvincente trek alle porte di Roma. An
 dremo a scoprire la città fantasma di Monterano con tutti i suoi misteri 
 e le sue bellezze. In origine insediamento etrusco\, come dimostrano ancor
 a oggi le grotte scavate nel tufo\, e poi romano. Alla fine del 1400 il te
 rritorio fu annesso ai possedimenti della casata nobiliare degli Orsini\, 
 mentre conobbe il suo massimo splendore\, sotto il papato di Clemente X Al
 tieri.\nIl restauro del castello fu affidato a Gian Lorenzo Bernini\, che 
 lo trasformò in un florido palazzo signorile\, con la meravigliosa Fontan
 a del Leone simbolo ancora oggi del borgo fantasma. Poi\, il borgo fu abba
 ndonato alla fine del Settecento per via\, forse\, del saccheggio dei Fran
 cesi nel 1799 e della malaria. Ma prima di scoprire il borgo cammineremo a
 ttraverso ruscelli\, cascatelle e piccole polle residuo dell'antico vulcan
 esimo laziale\n Diff. E Km 14 circa Dislv. 400 m\nCOSA PORTARE: scarponci
 ni da trekking\; giacca antivento\; bastoncini telescopici\; vestirsi a st
 rati\; pranzo al sacco e acqua a sufficienza.\nAPPUNTAMENTO H 9.30 riserv
 a di Monterano parcheggio cascata Diosilla segui questo link https://goo.
 gl/maps/oUQBXiRDfUvDgAtJA\nP.s fate sosta bagno e colazione nei bar di Can
 ale Monterano\n\nQUOTA SOCIALE:\nEscursione 12 € + Tessera Nomos Trek 20
 22 in corso di validità.\nRicordatevi di inserire in una busta da lettera
  la quota precisa che verrà ritirata all’inizio dell’escursione (se 
 non avete una busta va bene un foglio di carta ripiegato). Sulla busta and
 ranno indicati nomi e cognomi dei partecipanti e la somma contenuta.\nPer 
 i non tesserati inviare comunicazione via tel/sms etc. con i propri dati (
 nome/cognome\, luogo e data di nascita e cf) entro le 18 del giorno preced
 ente l'escursione\nAd ogni nuovo socio verrà rilasciata la tessera fedelt
 à Nomos Trek. Dopo 9 escursioni che farete con noi la 10° sarà gratuita
 .\nScaricare il modulo di tesseramento dal sito internet: www.nomostrek.c
 om (dalla voce contatti) presentandolo il giorno dell'escursione già com
 pilato\n\nPRENOTAZIONI A NUMERO CHIUSO\nIl solo "Parteciperò" messo all'e
 vento non sarà preso in considerazione se non si è poi contattata la gui
 da.\nINFORMAZIONI e PRENOTAZIONI:(preferibilmente whatsapp)\nGuida: Marco 
 Marini\nCell 3478247257 \nGuida Ambientale Escursionistica\nPer ricevere 
 aggiornamenti sull'evento :\n1) Mettere "parteciperò"\;\n2) Mettere “mi
  piace” alla pagina Nomos Trek - Escursioni e Trekking e cliccare sul ta
 sto “segui”\n3) iscriversi al gruppo pubblico Nomos Trek- Associazione
  Escursionistica\n4) canale telegram https://web.telegram.org/#/im?p=@nom
 ostrekescursioni\n5)Chat Telegram https://t.me/+5JYvtRdqIH9jZDJk\nSi preg
 a inoltre di avvertire gli accompagnatori della presenza di eventuali pato
 logie\, o di problematiche che potrebbero manifestarsi nel corso dell'escu
 rsione.\nPer questo periodo ci saranno delle semplici ma importanti regole
  da rispettare per partecipare alle nostre uscite\nEccole in dettaglio:\nN
 ON si potrà partecipare all’escursione per una qualsiasi delle seguenti
  ragioni:\nse prima di una escursione si lamentano sintomi di infezioni re
 spiratorie (febbre oltre i 37.5 °C)\, tosse\, raffreddore\nse si ha avuto
  contatti con persone affette da COVID-19 nei 15 giorni precedenti l’esc
 ursione\nLe escursioni saranno a numero chiuso con prenotazione obbligator
 ia\nDovrete essere muniti di mascherina e gel disinfettante\nCon i propri 
 compagni di escursione si dovrà sempre mantenere la distanza di sicurezza
  di almeno 2 metri. La mascherina andrà indossata nei momenti in cui non 
 è possibile rispettare tali distanze\nI partecipanti devono attenersi scr
 upolosamente alle indicazioni degli accompagnatori\, pena la decadenza del
  rapporto di affidamento e l’eventuale responsabilità degli stessi\nLa 
 guida verificherà il rispetto delle condizioni di partecipazione all’in
 izio dell’escursione e potrà prendere decisioni insindacabili per il ri
 spetto delle condizioni di sicurezza\nQuote sociali: dovrete inserire in u
 na busta da lettera la quota precisa che verrà ritirata all’inizio dell
 ’escursione\nIl socio ha letto e approva il sopraindicato elenco di misu
 re di sicurezza. Si impegna a metterlo in atto in occasione dell’escursi
 one in data odierna.
ATTACH;FMTTYPE=image/jpeg:https://lazioeventi.com/wp-content/uploads/2021/
 12/265298221_4394429107352429_2676117688572266018_n-1.jpg
CATEGORIES:Sport, Tempo Libero e Divertimento nel Lazio
LOCATION:Canale Monterano\, Comune\, Canale Monterano\, Roma\, Lazio\, Ital
 ia
GEO:42.1367;12.1038
X-APPLE-STRUCTURED-LOCATION;VALUE=URI;X-ADDRESS=Comune\, Canale Monterano\,
  Roma\, Lazio\, Italia;X-APPLE-RADIUS=100;X-TITLE=Canale Monterano:geo:42.
 1367,12.1038
END:VEVENT
BEGIN:VTIMEZONE
TZID:Europe/Rome
X-LIC-LOCATION:Europe/Rome
BEGIN:STANDARD
DTSTART:20211031T020000
TZOFFSETFROM:+0200
TZOFFSETTO:+0100
TZNAME:CET
END:STANDARD
END:VTIMEZONE
END:VCALENDAR