BEGIN:VCALENDAR
VERSION:2.0
PRODID:-//wp-events-plugin.com//7.2.3.1//EN
TZID:Europe/Rome
X-WR-TIMEZONE:Europe/Rome
BEGIN:VEVENT
UID:33858@lazioeventi.com
DTSTART;TZID=Europe/Rome:20230129T093000
DTEND;TZID=Europe/Rome:20230129T153000
DTSTAMP:20230121T155401Z
URL:https://lazioeventi.com/eventi/monteverde-e-dintorni-con-nomos-trek
SUMMARY:Monteverde e dintorni con Nomos Trek - Roma - 29 Gennaio 23 09:30
DESCRIPTION:Un trek urbano con il quale scopriremo inattesi angoli e incred
 ibili scorci panoramici su tutta Roma. La nostra partenza sarà il cuore d
 i Villa Phamphili\, da li' inizieremo a camminare percorrendo tranquille s
 tradine\, salendo e scendendo scale\, passeremo nei luoghi di Pasolini\, s
 copriremo la piccola Londra nel cuore di Monteverde Vecchio e poi Villa Sc
 iarra con le sue belle statue. Sul nostro percorso anche un monumentale pi
 oppo nero \nKm 12 Dislivello 170 metri\nAppuntamento: Vivi Bistrot di Vil
 la Pamphili via Vitellia 102 h 9.30\nPotete arrivare in auto perché sar
 à un anello o altrimenti con i mezzi pubblici linee bus 31- 33 - 791.\nCO
 SA PORTARE: scarponcini da trekking(morbidi e non rigidi) giacca antivento
 \; vestirsi a strati\; acqua a sufficienza e pranzo al sacco .. il caffè
  lo offriamo noi \nQUOTA DI PARTECIPAZIONE: 15€ - Trek riservato ai soc
 i Ass.Nomos Trek\nPer i non tesserati inviare comunicazione via tel/sms et
 c... con i propri dati (luogo e data di nascita) entro le 18 del giorno pr
 ecedente l'escursione al seguente numero 3478247257\nINFORMAZIONI e PRENOT
 AZIONI: (preferibilmente whatsapp)\nMarco Marini\nGuida Ambientale escursi
 onistica\nCell 3478247257 \n Per ricevere aggiornamenti sull'evento e ve
 dere tutte le escursioni:\n1) Mettere "parteciperò"\n2) Mettere “mi pia
 ce” alla pagina Nomos Trek - Escursioni e Trekking e cliccare sul tasto 
 “segui”\n3) iscriversi al gruppo pubblico Nomos Trek- Associazione Esc
 ursionistica\n4) Chat Telegram https://t.me/+5JYvtRdqIH9jZDJk\n5) https:
 //www.tiktok.com/@nomostrek\n6)https://www.instagram.com/nomostrekescursio
 ni/?hl=it\n7) Visita il sito: www.nomostrek.com\n\nL’iniziativa è rise
 rvata ai soci in regola con l’iscrizione relativa all’anno 2023 ed in 
 possesso della relativa tessera. Le Guide si riservano il diritto insindac
 abile di modificare il programma stabilito in caso di condizioni meteorolo
 giche avverse tali da rendere pericoloso l’itinerario\, in caso di impra
 ticabilità di un sentiero\, in caso di impossibilità di un partecipante 
 a continuare l’escursione.\nSi prega inoltre di avvertire gli accompagna
 tori della presenza di eventuali patologie\, o di problematiche che potreb
 bero manifestarsi nel corso dell'escursione\, grazie per la collaborazione
  
ATTACH;FMTTYPE=image/jpeg:https://lazioeventi.com/wp-content/uploads/2023/
 01/5.jpg
CATEGORIES:Sport, Tempo Libero e Divertimento nel Lazio
LOCATION:Roma\, Via Leopardi\, Roma\, Roma\, Lazio\, Italia
GEO:41.8942;12.5017
X-APPLE-STRUCTURED-LOCATION;VALUE=URI;X-ADDRESS=Via Leopardi\, Roma\, Roma\
 , Lazio\, Italia;X-APPLE-RADIUS=100;X-TITLE=Roma:geo:41.8942,12.5017
END:VEVENT
BEGIN:VTIMEZONE
TZID:Europe/Rome
X-LIC-LOCATION:Europe/Rome
BEGIN:STANDARD
DTSTART:20221030T020000
TZOFFSETFROM:+0200
TZOFFSETTO:+0100
TZNAME:CET
END:STANDARD
END:VTIMEZONE
END:VCALENDAR