BEGIN:VCALENDAR
VERSION:2.0
PRODID:-//wp-events-plugin.com//7.2.3.1//EN
TZID:Europe/Rome
X-WR-TIMEZONE:Europe/Rome
BEGIN:VEVENT
UID:31890@lazioeventi.com
DTSTART;TZID=Europe/Rome:20220807T060000
DTEND;TZID=Europe/Rome:20220807T190000
DTSTAMP:20220803T185219Z
URL:https://lazioeventi.com/eventi/morrone-delle-rose-e-monte-cavallo
SUMMARY:Morrone delle Rose e Monte Cavallo - Picinisco - 7 Agosto 22 06:00
DESCRIPTION:Panoramico itinerario da Prati di Mezzo\nCOSA FAREMO?\nItinerar
 io per tutti che dai Prati di Mezzo sale verso Fonte Fredda a circa 1700 m
 t. di quota.\nSi sale sulla Sella di Prato Piano e si prosegue in direzion
 e di Morrone delle Rose.\nSi ritorna sui propri passi per poi salire su Mo
 nte Cavallo.\nDa qui si ritorna sulla Sella di Prato Piano e si rientra pe
 r il percorso di andata.\nDETTAGLI TECNICI:\nItinerario: Prati di Mezzo - 
 Sella di Prato Piano - Morrone delle Rose - Monte Cavallo\nDislivello comp
 lessivo: +600m\nLunghezza a/r: 13 Km\nTempi a/r: 6h 30m\nGrado di difficol
 tà: Escursionistico\nAccompagnatore: Giovanni\nTrasporto: Auto prorie\nPr
 anzo: A sacco\nNote: Nessuna\nIL PROGRAMMA DELLA GIORNATA:\n\n 	Ore 6:30 -
  Itri presso il "Pallone"\n 	Ore 7:10 - Spigno Saturnia presso "Bar Mirò"
 \n 	Ore 9:00 - Inizio escursione\n 	Ore 16:30 - Termine escursione e rient
 ro\n 	Ore 18:30 - Arrivo a Spigno Saturnia\n 	Ore 19:10 - Arrivo a Itri.\n
 \nLa partecipazione all’escursione è aperta a tutti.\n\nContributo di p
 artecipazione:\n\n 	Soci Atargatis + Tessera FIE: gratuito\n 	Soci Atargat
 is: €2\,00 (assicurazione infortuni)\n 	Non soci: €7\,00 (assicurazion
 e infortuni e contributo associazione)\n\n(nel caso si raggiungesse un num
 ero adeguato di partecipanti si potrà valutare il noleggio del bus)\nPren
 otazione obbligatoria entro il 5 agosto 2022\nL’Associazione Atargatis A
 PS\, affiliata FIE (Federazione Italiana Escursionismo)\, è dotata di cop
 ertura RCT ed INFORTUNI sulle proprie attività.\nATTREZZATURA OBBLIGATORI
 A:\n\n 	scarpe da trekking o ginnastica\,\n 	pantaloni comodi\,\n 	magliet
 ta traspirante\,\n 	... e tanta allegria!\n\nCosa è necessario portare ne
 llo zaino:\n\n 	Borraccia della capacità di almeno 1\,5 litri d’acqua\,
 \n 	mantella impermeabile\,\n 	maglia di pile\,\n 	guanti\,\n 	cappello\,\
 n 	frutta secca\,\n 	pranzo al sacco\,\n 	ricambio intimo\,\n 	occhiali da
  sole.\n\nAVVERTENZE:\nLa frequentazione della montagna comporta dei risch
 i comunque ineliminabili e pertanto con la richiesta di iscrizione all’e
 scursione il partecipante esplicitamente attesta e dichiara di non aver al
 cun impedimento fisico e psichico alla pratica dell’escursionismo\, di e
 ssere idoneo dal punto di vista medico e di avere una preparazione fisica 
 adeguata alla difficoltà dell’escursione della quale conferma aver pres
 o visione delle caratteristiche.\nPER INFORMAZIONI ED ADESIONI:\nGiovanni 
 Macrino\, Tel. 378.0895006\neMail: info@atargatis.it
ATTACH;FMTTYPE=image/jpeg:https://lazioeventi.com/wp-content/uploads/2022/
 08/manifesto-morrone-delle-rose.jpg
CATEGORIES:Sport, Tempo Libero e Divertimento nel Lazio
LOCATION:Picinisco\, Comune\, Picinisco\, Frosinone\, Lazio\, Italia
GEO:41.6466;13.8673
X-APPLE-STRUCTURED-LOCATION;VALUE=URI;X-ADDRESS=Comune\, Picinisco\, Frosin
 one\, Lazio\, Italia;X-APPLE-RADIUS=100;X-TITLE=Picinisco:geo:41.6466,13.8
 673
END:VEVENT
BEGIN:VTIMEZONE
TZID:Europe/Rome
X-LIC-LOCATION:Europe/Rome
BEGIN:DAYLIGHT
DTSTART:20220327T030000
TZOFFSETFROM:+0100
TZOFFSETTO:+0200
TZNAME:CEST
END:DAYLIGHT
END:VTIMEZONE
END:VCALENDAR