BEGIN:VCALENDAR
VERSION:2.0
PRODID:-//wp-events-plugin.com//7.2.3.1//EN
TZID:Europe/Rome
X-WR-TIMEZONE:Europe/Rome
BEGIN:VEVENT
UID:40393@lazioeventi.com
DTSTART;TZID=Europe/Rome;VALUE=DATE:20241207
DTEND;TZID=Europe/Rome;VALUE=DATE:20250519
DTSTAMP:20241206T104146Z
URL:https://lazioeventi.com/eventi/mostra-bernini-e-la-pittura-del-600-dip
 inti-dalla-collezione-koelliker
SUMMARY:Mostra "Bernini e la pittura del ‘600. Dipinti dalla Collezione K
 oelliker" - Ariccia - 7 Dicembre 24 00:00
DESCRIPTION:Mostra “Bernini e la pittura del ‘600. Dipinti della Collez
 ione Koelliker”\, dal 7 dicembre 2024 al 18 maggio 2025 a Palazzo Chigi\
 , Ariccia.\n\nIn mostra numerosi dipinti attribuiti al Bernini\, tra ritra
 tti e studi di figura\, che fanno parte della Collezione Koelliker\, una d
 elle più importanti collezioni private d’arte italiana al mondo.\n\nSec
 ondo le fonti storiche e i documenti archivistici\, il sommo artefice avev
 a eseguito numerosi dipinti\, non solo ritratti\, ma anche quadri di sogge
 tto allegorico con una e più figure\, in gran parte perduti.\n\nDalla scu
 ltura\, che costituisce il settore per il quale è maggiormente conosciuto
 \, all’architettura\, dalle arti decorative agli apparati effimeri\, com
 presa la pittura\, Giovan Lorenzo Bernini (Napoli 1598 – Roma 1680) è r
 iuscito a lasciare una traccia di sé in tutte le espressioni delle arti f
 igurative dell’epoca\, sia in ambito europeo\, che soprattutto per la sc
 uola romana di cui fu protagonista assoluto. L’esposizione\, a cura di F
 rancesco Petrucci\, Conservatore di Palazzo Chigi e tra i massimi esperti 
 del Barocco romano\, vuole rendere quindi omaggio ai tanti dipinti del Ber
 nini\, tra cui alcuni rari autografi\, come l’Autoritratto mentre disegn
 a\, il Ritratto del poeta Virginio Cesarini\, uno splendido Levantino sdra
 iato\, probabilmente un facchino del Porto di Civitavecchia\, e un Cristo 
 alla colonna di caratteristiche tizianesche.\n\nIn mostra\, inoltre\, anch
 e una vasta selezione di opere del Barocco romano\, con numerosi capolavor
 i d’artisti italiani e stranieri che operarono a Roma nel XVII secolo. N
 elle sale di Palazzo Chigi saranno ospitate opere come Sansone che sbrana 
 il leone di Giovanni Lanfranco\, il Battesimo di Cristo di Pietro da Corto
 na\, una sensuale Venere con il pomo d’oro di Andrea Sacchi proveniente 
 dalla collezione Chigi e un monumentale Eraclito e Democrito di Giovanni D
 omenico Cerrini\, mai esposto al pubblico\, proveniente dalle collezioni m
 edicee.\n\nImpressionanti due scene di banchetti degenerati in tragedia: i
 l Convito di Assalonne di Niccolò Tornioli e il poco noto Alessandro Magn
 o uccide Clito di Mattia Preti. Numerosi i ritratti\, opera di specialisti
  come Guglielmo Cortese detto “il Borgognone”\, Giovan Battista Gaulli
  detto “il Baciccio”\, Pierre Mignard e Jacob Ferdinand Voet. Spiccano
  il Ritratto del cardinale Alderano Cybo del Maratta e il Ritratto di Urba
 no Barberini di Giuseppe Passeri.\n\nTra gli artisti presenti\, infine\, a
 nche Pier Francesco Mola\, Bernardino Mei\, “Monsù Bernardo”\, Daniel
  Seiter\, Giovan Battista Beinaschi e Girolamo Troppa.\n\nPromozione con i
 l contributo di: FONDAZIONE BCC dei Castelli Romani e del Tuscolo\, FONDAZ
 IONE ROMA\, LUBEA s.r.l.\n\nBiglietti\nintero € 10\,00 – ridotto € 7
 \,00\nscolaresche di ogni ordine e grado ridotto € 5\,00\n\nOrari\ndal 7
  dicembre al 29 marzo: ore 10\,00 – 13\,00 e ore 15\,00 – 18\,00\ndal 
 30 marzo al 18 maggio: ore 10\,00 – 13\,00 e ore 15\,30 – 18\,30
ATTACH;FMTTYPE=image/jpeg:https://lazioeventi.com/wp-content/uploads/2024/
 12/1.-Bernini-Autoritratto-LK0584-1.webp
CATEGORIES:Arte e Cultura nel Lazio
LOCATION:Ariccia\, Comune\, Ariccia\, Roma\, Lazio\, Italia
GEO:41.72;12.671
X-APPLE-STRUCTURED-LOCATION;VALUE=URI;X-ADDRESS=Comune\, Ariccia\, Roma\, L
 azio\, Italia;X-APPLE-RADIUS=100;X-TITLE=Ariccia:geo:41.72,12.671
END:VEVENT
BEGIN:VTIMEZONE
TZID:Europe/Rome
X-LIC-LOCATION:Europe/Rome
BEGIN:STANDARD
DTSTART:20241027T020000
TZOFFSETFROM:+0200
TZOFFSETTO:+0100
TZNAME:CET
END:STANDARD
BEGIN:DAYLIGHT
DTSTART:20250330T030000
TZOFFSETFROM:+0100
TZOFFSETTO:+0200
TZNAME:CEST
END:DAYLIGHT
END:VTIMEZONE
END:VCALENDAR