BEGIN:VCALENDAR
VERSION:2.0
PRODID:-//wp-events-plugin.com//7.2.3.1//EN
TZID:Europe/Rome
X-WR-TIMEZONE:Europe/Rome
BEGIN:VEVENT
UID:35938@lazioeventi.com
DTSTART;TZID=Europe/Rome:20230624T170000
DTEND;TZID=Europe/Rome:20230701T190000
DTSTAMP:20230615T132645Z
URL:https://lazioeventi.com/eventi/mostra-collettiva-destinazione-estate-v
 oglia-di-colore
SUMMARY:Mostra collettiva Destinazione estate - voglia di colore - Roma - 2
 4 Giugno 23 17:00
DESCRIPTION:ROMA - Sabato 24 giugno 2023 alle ore 17:00\, in via Gaetano Ca
 sati 27 si inaugura un solare evento artistico di pittura\, scultura\, fot
 ografia e poesia dal titolo “DESTINAZIONE ESTATE – voglia di colore”
 . La mostra potrà essere visitata dal 24 giugno al 1 luglio (domenica 25 
 esclusa) dalle 17:00 alle 19:00.\n\nEssendo ormai prossimi all’estate si
  è deciso di realizzare un evento che trasmettesse al Visitatore il clima
  di spensieratezza e serenità che in genere questa stagione ci regala. La
  positività\, il buon umore e la gioia della bella stagione sono mirabilm
 ente evocati da opere di pittura\, fotografia\, scultura e poesia tramite 
 il sapiente utilizzo del colore\, della luce e della parola.\n\n&nbsp\;\n\
 nUn appagante senso di libertà e di benessere sono solo due delle moltepl
 ici sensazioni che le opere esposte vogliono evocare nello Spettatore\, co
 n l’augurio che l’estate ci inondi di luce\, colore e positività.\n\n
                                      
                                      
                                 Mauro Rubin
 i\n\n&nbsp\;\n\nArtisti partecipanti:\n\nAriosto Antonella\, Bartolini Tiz
 iana\, Bottan Fortunato Pier\, Buccoliero Daniela\, Bracaglia Paola\, Cann
 one Patrizia\, Fiengo Ciro\, Fiore Tiziana\, Grossi Tamara\, Lazzari Marce
 lla\, Lunghi Maria Grazia\, Marcorè\, Monaldi Gloria\, Partis Barbara\, R
 aho Giorgia\, Ricci Monia\, Rubini Mauro\, Sabato Cristiano\, Saccone Gius
 y\, Scacchi Stefano\, Siesti Antonio\, Stasi Olimpia\, Suadoni Gianfranco\
 , Volpicella Patrizia\, Zanarella Doriano\, Zanarella Michela\n\n&nbsp\;\n
 \n&nbsp\;\n\nINFORMAZIONI GENERALI\n\n \n\nDove:\n\nRBN arte\n\nVia Gaeta
 no Casati\, 27 – Roma\n\n \n\nInaugurazione:\n\nSabato 24 giugno 2023 -
  ore 17:00\n\n \n\nQuando:\n\nDal 24 giugno al 01 luglio 2023 - Tutti i g
 iorni dalle 17.00 alle 19.00\n\nApertura festiva: Giovedì 29 giugno\n\nDo
 menica 25 giugno chiuso\n\nIngresso libero
ATTACH;FMTTYPE=image/jpeg:https://lazioeventi.com/wp-content/uploads/2023/
 06/marcore_il-faro_light.jpg
CATEGORIES:Arte e Cultura nel Lazio
LOCATION:Roma\, Via Leopardi\, Roma\, Roma\, Lazio\, Italia
GEO:41.8942;12.5017
X-APPLE-STRUCTURED-LOCATION;VALUE=URI;X-ADDRESS=Via Leopardi\, Roma\, Roma\
 , Lazio\, Italia;X-APPLE-RADIUS=100;X-TITLE=Roma:geo:41.8942,12.5017
END:VEVENT
BEGIN:VTIMEZONE
TZID:Europe/Rome
X-LIC-LOCATION:Europe/Rome
BEGIN:DAYLIGHT
DTSTART:20230326T030000
TZOFFSETFROM:+0100
TZOFFSETTO:+0200
TZNAME:CEST
END:DAYLIGHT
END:VTIMEZONE
END:VCALENDAR