BEGIN:VCALENDAR
VERSION:2.0
PRODID:-//wp-events-plugin.com//7.2.3.1//EN
TZID:Europe/Rome
X-WR-TIMEZONE:Europe/Rome
BEGIN:VEVENT
UID:40004@lazioeventi.com
DTSTART;TZID=Europe/Rome;VALUE=DATE:20241029
DTEND;TZID=Europe/Rome;VALUE=DATE:20241113
DTSTAMP:20241010T185137Z
URL:https://lazioeventi.com/eventi/mostra-collettiva-di-artisti-turchi-bre
 ezes-from-anatolia
SUMMARY:Mostra collettiva di artisti turchi "Breezes from Anatolia" - Roma 
 - 29 Ottobre 24 00:00
DESCRIPTION:MOSTRA COLLETTIVA DI ARTISTI TURCHI\n\nPER LA CELEBRAZIONE DEL 
 101° ANNIVERSARIO DELLA REPUBBLICA DI TURCHIA\n\n“BREZZE DALL’ANATOLI
 A”\n\nRoma\, 29 ottobre – 12 novembre 2024\n\nDal 29 ottobre al 12 nov
 embre 2024 Medina Art Gallery presenta la mostra collettiva di artisti tur
 chi organizzata dalla Galleria Sakuder\, presso la galleria di via Angelo 
 Poliziano\, 4-6\, Roma.\n\nL’evento di opening si terrà il giorno marte
 dì 29 ottobre 2024 alle ore 18:30 presso la galleria di via Angelo Polizi
 ano\, 4-6\, Roma. \n\n \n\nIn occasione della celebrazione del 101° anni
 versario dalla nascita della Repubblica di Turchia\, la Galleria Saküder 
 inaugurerà la mostra di pittura "Brezze dall'Anatolia" presso Medina Art 
 Gallery di Roma il 29 ottobre 2024 alle ore 18:30. Saranno esposti i lavor
 i di 20 artisti pittori. Artisti e appassionati d'arte residenti a Roma so
 no invitati sin da ora al cocktail di inaugurazione alla presenza della st
 ampa.\n\n&nbsp\;\n\n&nbsp\;\n\nArtisti partecipanti:\n\nAli Eser\n\nGüne
 ş Abbas\n\nGönül Dinç\n\nMualla Yemişciler\n\nNermin Ünal\n\nZekiye 
 Besler Kuşçu\n\nDöndü Işıl Doğan\n\nSibel Acar Kutlu\n\nFatma Perih
 an Türkçü\n\nMukadder Öke\n\nAli Şenel\n\nSena Halman\n\n&nbsp\;\n\nI
 n breve: \n\nTitolo Mostra: “Brezze dall’Anatolia” \n\nOpening Mostr
 a: martedì 29 ottobre h 18.30\n\nDurata Mostra: dal 29 ottobre al 12 nove
 mbre 2024\n\nLuogo: Medina Art Gallery/ Via Angelo Poliziano\, 4-6 / Roma\
 n\n&nbsp\;\n\nContatti Medina Art Gallery: \n\nEmail: info@medinaroma.com 
 -Tel. +39 06 960 30 764\n\nSocial: facebook.com / medinaroma.arte / Instag
 ram.com / medinaroma.arte\n\nWebsite: https://www.medinaroma.com\n\nOrario
  di apertura: Dal lunedì al venerdì 10.00-13.00/15.00-19.00
ATTACH;FMTTYPE=image/jpeg:https://lazioeventi.com/wp-content/uploads/2024/
 10/Breezes-from-Anatolia_.jpeg
CATEGORIES:Arte e Cultura nel Lazio
LOCATION:Roma\, Via Leopardi\, Roma\, Roma\, Lazio\, Italia
GEO:41.8942;12.5017
X-APPLE-STRUCTURED-LOCATION;VALUE=URI;X-ADDRESS=Via Leopardi\, Roma\, Roma\
 , Lazio\, Italia;X-APPLE-RADIUS=100;X-TITLE=Roma:geo:41.8942,12.5017
END:VEVENT
BEGIN:VTIMEZONE
TZID:Europe/Rome
X-LIC-LOCATION:Europe/Rome
BEGIN:STANDARD
DTSTART:20241027T020000
TZOFFSETFROM:+0200
TZOFFSETTO:+0100
TZNAME:CET
END:STANDARD
END:VTIMEZONE
END:VCALENDAR