BEGIN:VCALENDAR
VERSION:2.0
PRODID:-//wp-events-plugin.com//7.2.3.1//EN
TZID:Europe/Rome
X-WR-TIMEZONE:Europe/Rome
BEGIN:VEVENT
UID:43210@lazioeventi.com
DTSTART;TZID=Europe/Rome:20251128T100000
DTEND;TZID=Europe/Rome:20251204T190000
DTSTAMP:20251125T175030Z
URL:https://lazioeventi.com/eventi/mostra-collettiva-from-pawn-to-queen
SUMMARY:Mostra collettiva “from pawn to queen" - Roma - 28 Novembre 25 10
 :00
DESCRIPTION:Dal 28 Novembre al 4 Dicembre 2025 Medina Art Gallery presenta 
 la Mostra Collettiva “From Pawn to Queen” a cura di Ada Ferrandes\, Me
 lania Fusaro e Federica Guida\, nella galleria di Via Angelo Poliziano 4-6
  a Roma.\n\nOpening event Venerdì 28 Novembre alle ore 18:00\n\nFerrandes
  Fusaro e Guida. Le tre curatrici sviluppano un racconto visivo e concettu
 ale sull’ascesa\, sulla strategia e sulla forza interiore di chi nasce a
 i margini ma rifiuta di restare una pedina.\n\n“From Pawn to Queen” pr
 ende forma da una delle trasformazioni più radicali del gioco degli scacc
 hi: il passaggio da pedone a regina. Un gesto che non è magia\, non è pr
 ivilegio\, non è fortuna. È avanzamento\, scelta\, resistenza. È il mov
 imento di chi cresce in spazi stretti\, dove il cemento si fa pelle e il q
 uartiere detta le regole prima ancora che si possa immaginare un futuro. 
 È il passo di chi impara a muoversi non per restare nello stesso punto\, 
 ma per cambiare le condizioni stesse del gioco.…un inno alle strategie i
 nvisibili\, ai sacrifici che ribaltano il destino\, agli alleati che diven
 tano parte del tuo regno\, ai percorsi impossibili che da “P” conducon
 o a “Q”\, contro ogni pronostico. Perché chi viene dai margini non ce
 rca un trono: lo costruisce. In mostra\, opere che incarnano questa tensio
 ne: forme che avanzano\, si spezzano\, ricompongono traiettorie nuove\; su
 perfici che raccontano il peso dei confini e la forza di chi li attraversa
 . Ogni lavoro diventa mappa di un’evoluzione: da ruolo imposto a ruolo s
 celto\, da pedina sacrificabile a regina che detta il proprio raggio d’a
 zione.\n\n“From Pawn to Queen” è più di un titolo: è una dichiarazi
 one sulla potenza del movimento\, sulla dignità dell’origine e sulla lu
 cidità di chi impara a stare al mondo come in una scacchiera\, attenta\, 
 strategica\, disposta a perdere per avanzare\, pronta a costruire il propr
 io impero un passo dopo l’altro.\n\nArtisti in mostra: Mirko Argento |Ar
 do Borsari |Bosska |Silvia Cassetta| Angelica Sonia Cosi| Francesco Crista
 rella | Raffaele D'Anna | Valerio De Marco |Adriano De Simone |Noémie De 
 Yturbe |Simona Dileo |Luana Di Sarno | Emerson | Laura Escobar |Mariam Fad
 lallah |Chiara Filardi |Valeria Frontone |Alexandru Ghindaoanu |Elijah Gra
 nnis |Ludovico Graziano |Carey Jeffries |Barbara Lelli |Veronica Manta |Pi
 o Mars |Alessia Notarbartolo |Carlos Alberto Ruiz Valle| John Schonert| To
 más Salazar Suaza |Giovanna Serpico |Mariaconsiglia Stile |Bianca Stinchi
 \n\nInformazioni pratiche:\nTitolo: “From Pawn to Queen”\nDove: Medina
  Art Gallery\, Via Angelo Poliziano 4-6\,\, Roma\nQuando: Lun - Dom 10:00
 –13:00 / 15:00–19:00\nOpening: venerdì 28 novembre 2025\, ore 18:00
ATTACH;FMTTYPE=image/jpeg:https://lazioeventi.com/wp-content/uploads/2025/
 11/Locandina-From-Pawn-to-Queen.jpeg
CATEGORIES:Arte e Cultura nel Lazio
LOCATION:Roma\, Via Leopardi\, Roma\, Roma\, Lazio\, Italia
GEO:41.8942;12.5017
X-APPLE-STRUCTURED-LOCATION;VALUE=URI;X-ADDRESS=Via Leopardi\, Roma\, Roma\
 , Lazio\, Italia;X-APPLE-RADIUS=100;X-TITLE=Roma:geo:41.8942,12.5017
END:VEVENT
BEGIN:VTIMEZONE
TZID:Europe/Rome
X-LIC-LOCATION:Europe/Rome
BEGIN:STANDARD
DTSTART:20251026T020000
TZOFFSETFROM:+0200
TZOFFSETTO:+0100
TZNAME:CET
END:STANDARD
END:VTIMEZONE
END:VCALENDAR