BEGIN:VCALENDAR
VERSION:2.0
PRODID:-//wp-events-plugin.com//7.2.3.1//EN
TZID:Europe/Rome
X-WR-TIMEZONE:Europe/Rome
BEGIN:VEVENT
UID:40661@lazioeventi.com
DTSTART;TZID=Europe/Rome;VALUE=DATE:20250221
DTEND;TZID=Europe/Rome;VALUE=DATE:20250228
DTSTAMP:20250128T171638Z
URL:https://lazioeventi.com/eventi/mostra-collettiva-la-gioia-la-leggerezz
 a-la-meraviglia
SUMMARY:Mostra collettiva "la Gioia la Leggerezza la Meraviglia" - Roma - 2
 1 Febbraio 25 00:00
DESCRIPTION:MOSTRA COLLETTIVA “LA GIOIA LA LEGGEREZZA LA MERAVIGLIA”\nT
 esto curatoriale e presentazione a cura di Rita Pascali\nRoma\, 21 – 27 
 febbraio 2025\n\nDal 21 al 27 febbraio 2025 Medina Art Gallery presenta la
  mostra collettiva “la Gioia la Leggerezza la Meraviglia”\n\nTesto cur
 atoriale e presentazione a cura di Rita Pascali\, presso la galleria di vi
 a Angelo Poliziano\, 4-6.\n\nL’evento di opening si terrà il giorno ven
 erdì 21 febbraio 2025 alle ore 18:00 presso la galleria di via Angelo Pol
 iziano 4-6\, con la presentazione di Rita Pascali\n\n\n\n\nIl tema di ques
 ta mostra collettiva è la gioia\, non solo in quanto emozione quanto vera
  e propria rappresentazione fisica. Gli artisti si propongono qui di rappr
 esentarla con leggerezza\, attraverso le loro opere\, realizzate dopo un l
 avoro di ricerca personale e di focalizzazione del tema\, il quale viene r
 appresentato non solo dalla figura umana di qualsiasi età\, ma anche da m
 omenti\, situazioni\, e luoghi. Il concetto viene espresso anche attravers
 o la filosofia di Platone e Aristotele\, secondo cui la gioia è all’ori
 gine della sapienza e quindi della filosofia stessa.\n\nLo stesso viene es
 presso pittoricamente anche da artisti come Paul Gauguin\, Auguste Renoir\
 , Henri Matisse\, Marc Chagall. La gioia è quindi quel senso di pienezza\
 , di appagamento\, di benessere che ci pervade a volte senza un perché\, 
 senza un motivo scatenante. Essa va coltivata e allenata costantemente\, b
 isogna prendersene cura affinché lasci in noi l’impronta indelebile del
  nostro essere\, in tutte le sue sfumature.\n\nArtisti in mostra: Alessand
 ra Annibali\, Annamaria Milani\, Antonella Vittorini\, Carmen Sabelli\, Ca
 terina Martone\, Hilde Bianchi\, Maria Oddi\, Maria Pia Santarelli\, Massi
 mo Santoloci\, Paola Bracaglia\, Paola Sartirio\, Rita Pascali\, Roberta M
 andara\, Rossella Sorrentino.\n\n\n\n\nIn breve:\n\nTitolo Mostra: La Gioi
 a la Leggerezza la Meraviglia\n\nArtisti in mostra: Alessandra Annibali| A
 nnamaria Milani| Antonella Vittorini| Carmen Sabelli| Caterina Martone| Hi
 lde Bianchi| Maria Oddi| Maria Pia Santarelli| Massimo Santoloci| Paola Br
 acaglia| Paola Sartirio| Rita Pascali|Roberta Mandara| Rossella Sorrentino
 \n\nOpening Mostra: venerdì 21 febbraio h 18\n\nDurata Mostra: dal 21 al 
 27 febbraio 2025\n\nLuogo: Medina Art Gallery/ Via Angelo Poliziano\, 4-6 
 / Roma\n\n\n\n\nContatti Medina Art Gallery:\n\nEmail: info@medinaroma.com
  - Tel. +39 06 960 30 764\n\nSocial: facebook.com / medinaroma.arte / Inst
 agram.com / medinaroma.arte\n\nWebsite: https://www.medinaroma.com\n\nOrar
 io di apertura: Dal lunedì al venerdì ore 10.00-13.00/15.00-19.00 | saba
 to 10:00-19:00
ATTACH;FMTTYPE=image/jpeg:https://lazioeventi.com/wp-content/uploads/2025/
 01/La-gioia-la-leggerezza-la-meraviglia.jpeg
CATEGORIES:Arte e Cultura nel Lazio
LOCATION:Roma\, Via Leopardi\, Roma\, Roma\, Lazio\, Italia
GEO:41.8942;12.5017
X-APPLE-STRUCTURED-LOCATION;VALUE=URI;X-ADDRESS=Via Leopardi\, Roma\, Roma\
 , Lazio\, Italia;X-APPLE-RADIUS=100;X-TITLE=Roma:geo:41.8942,12.5017
END:VEVENT
BEGIN:VTIMEZONE
TZID:Europe/Rome
X-LIC-LOCATION:Europe/Rome
BEGIN:STANDARD
DTSTART:20241027T020000
TZOFFSETFROM:+0200
TZOFFSETTO:+0100
TZNAME:CET
END:STANDARD
END:VTIMEZONE
END:VCALENDAR