BEGIN:VCALENDAR
VERSION:2.0
PRODID:-//wp-events-plugin.com//7.2.3.1//EN
TZID:Europe/Rome
X-WR-TIMEZONE:Europe/Rome
BEGIN:VEVENT
UID:32629@lazioeventi.com
DTSTART;TZID=Europe/Rome:20221008T000000
DTEND;TZID=Europe/Rome:20221014T000000
DTSTAMP:20221010T102321Z
URL:https://lazioeventi.com/eventi/mostra-di-michele-rosa
SUMMARY:Mostra di Michele ROSA - Frosinone - 8 Ottobre 22 00:00
DESCRIPTION:Michele ROSA: personalità visionaria\, complessa e multiforme\
 n\nDal 6 al 19 ottobre 2022 avrà luogo la mostra di Michele ROSA presso i
 l centro culturale “villa comunale” di Frosinone - via M.T. Cicerone n
 . 13 - inserita nella 18^ "Giornata del Contemporaneo" che decorre dall'8 
 al 14 ottobre.\n\nQuest'ultimo evento fa parte delle iniziative promosse d
 a AMACI (Associazione dei Musei d'Arte Contemporanea Italiana) in collabor
 azione con il Ministero per i Beni e le Attività Culturali e con il Minis
 tero degli Affari Esteri e della Cooperazione Internazionale.\n\nIl visita
 tore attraverserà tre sezioni tematiche - tra le tante trattate dall'arti
 sta che è venuto a mancare di recente - in cui sono esposte tele relative
  ai seguenti temi:\n\n 	La pittura di paesaggio\;\n 	Nudo di donna\;\n 	Da
 ll'informale materico all'astrazione plastica.\n\nAll'interno di ogni sezi
 one le opere sono presentate cronologicamente al fine di renderne evidente
  l'evoluzione stilistica così da illustrare le fasi che hanno caratterizz
 ato il passaggio dalla pittura più acerba\, maggiormente illustrativa\, a
  quella astratta e più recente\, nonché l’importante produzione semi-f
 igurativa di transizione.
ATTACH;FMTTYPE=image/jpeg:https://lazioeventi.com/wp-content/uploads/2022/
 10/Locandina-Michele-ROSA.jpg
CATEGORIES:Arte e Cultura nel Lazio
LOCATION:Frosinone\, Comune\, Frosinone\, Frosinone\, Lazio\, Italia
GEO:41.6396;13.3508
X-APPLE-STRUCTURED-LOCATION;VALUE=URI;X-ADDRESS=Comune\, Frosinone\, Frosin
 one\, Lazio\, Italia;X-APPLE-RADIUS=100;X-TITLE=Frosinone:geo:41.6396,13.3
 508
END:VEVENT
BEGIN:VTIMEZONE
TZID:Europe/Rome
X-LIC-LOCATION:Europe/Rome
BEGIN:DAYLIGHT
DTSTART:20220327T030000
TZOFFSETFROM:+0100
TZOFFSETTO:+0200
TZNAME:CEST
END:DAYLIGHT
END:VTIMEZONE
END:VCALENDAR