BEGIN:VCALENDAR
VERSION:2.0
PRODID:-//wp-events-plugin.com//7.2.3.1//EN
TZID:Europe/Rome
X-WR-TIMEZONE:Europe/Rome
BEGIN:VEVENT
UID:42399@lazioeventi.com
DTSTART;TZID=Europe/Rome;VALUE=DATE:20250919
DTEND;TZID=Europe/Rome;VALUE=DATE:20250926
DTSTAMP:20250915T063056Z
URL:https://lazioeventi.com/eventi/mostra-di-pittura-collettiva-ricordi-di
 -roma
SUMMARY:Mostra di pittura collettiva "Ricordi di Roma" - Roma - 19 Settembr
 e 25 00:00
DESCRIPTION:Ricordi di Roma\n\nMostra collettiva di pittura\n\n(Roma\, dal 
 19 al 25 Settembre 2025)\n\nA cura del Prof. Egidio Maria Eleuteri e il Do
 tt. Romano Senczuk\n\nGalleria Arte Sempione - Corso Sempione 8\, Roma\n\n
 Organizzazione di Mario Borgato\n\n&nbsp\;\n\nLa Galleria Arte Sempione è
  lieta di presentare l'imminente mostra "RICORDI DI ROMA - Scorci\, tetti\
 , portoni e panorami tiberini"\, una rassegna artistica dedicata alla Citt
 à Eterna. La mostra si terrà dal 19 al 25 settembre 2025 presso la sede 
 della galleria in Corso Sempione 8/10\, Roma.\n\nL'esposizione\, curata in
  collaborazione con il Dott. Prof. Egidio Maria Eleuteri e il Dott. Romano
  Senczuk\, presenta le opere di artisti eterogenei che hanno interpretato 
 Roma attraverso il proprio stile e la propria sensibilità. Ogni opera è 
 un omaggio personale e unico alla città\, catturando la sua anima attrave
 rso i suoi scorci più intimi\, i tetti che disegnano l'orizzonte\, i cara
 tteristici portoni e i suggestivi panorami sul Tevere.\n\nQuesta rassegna 
 non è solo un percorso visivo\, ma un'affascinante e profonda interpretaz
 ione della bellezza e della storia che si respira in ogni angolo della Cap
 itale. I visitatori avranno l'opportunità di ammirare e confrontare tecni
 che e stili diversi\, uniti dalla straordinaria magia di Roma.\n\nInformaz
 ioni utili\n\nTitolo della mostra:\n\nRICORDI DI ROMA - Scorci\, tetti\, p
 ortoni e panorami tiberini\n\nSede\n\nGalleria Arte Sempione\, Corso Sempi
 one 8/10\, Roma\n\nDate\n\nDal 19 al 25 settembre 2025\n\nOrari di apertur
 a\n\nDal lunedì al sabato\, 10.00-13.00 e 16.00-20.00  / la domenica 10.
 00-13.00\n\nINGRESSO GRATUITO\n\nInaugurazione\n\nVenerdì 19 settembre 20
 25 alle ore 18:30\, seguirà un brindisi per celebrare l'inizio della most
 ra.\n\nContatti:\n\nMario Borgato +39 375 820 6933\n\nartesempione@gmail.c
 om
ATTACH;FMTTYPE=image/jpeg:https://lazioeventi.com/wp-content/uploads/2025/
 09/Locandina200k.jpg
CATEGORIES:Arte e Cultura nel Lazio
LOCATION:Roma\, Via Leopardi\, Roma\, Roma\, Lazio\, Italia
GEO:41.8942;12.5017
X-APPLE-STRUCTURED-LOCATION;VALUE=URI;X-ADDRESS=Via Leopardi\, Roma\, Roma\
 , Lazio\, Italia;X-APPLE-RADIUS=100;X-TITLE=Roma:geo:41.8942,12.5017
END:VEVENT
BEGIN:VTIMEZONE
TZID:Europe/Rome
X-LIC-LOCATION:Europe/Rome
BEGIN:DAYLIGHT
DTSTART:20250330T030000
TZOFFSETFROM:+0100
TZOFFSETTO:+0200
TZNAME:CEST
END:DAYLIGHT
END:VTIMEZONE
END:VCALENDAR