BEGIN:VCALENDAR
VERSION:2.0
PRODID:-//wp-events-plugin.com//7.2.3.1//EN
TZID:Europe/Rome
X-WR-TIMEZONE:Europe/Rome
BEGIN:VEVENT
UID:43945@lazioeventi.com
DTSTART;TZID=Europe/Rome:20260307T070000
DTEND;TZID=Europe/Rome:20260308T200000
DTSTAMP:20260304T202451Z
URL:https://lazioeventi.com/eventi/mostra-fotografica-le-donne-e-lo-sport-
 in-europa
SUMMARY:Mostra fotografica “Le Donne e lo Sport in Europa” - Cerveteri 
 - 7 Marzo 26 07:00
DESCRIPTION:Da Bruxelles a Cerveteri: Sabato 7 marzo alle ore 17\, presso l
 a Sala Consiliare di Palazzo del Granarone\, verrà inaugurata la mostra f
 otografica “Le Donne e lo Sport in Europa”.\n\nUna mostra con 27 immag
 ini\, un’atleta per ogni Paese membro dell'UE\, per raccontare una stori
 a che va oltre i risultati agonistici ma evoca temi come il pregiudizio\, 
 l’uguaglianza\, il diritto\, la dignità\, l’educazione e il professio
 nismo.\n\nAll’inaugurazione parteciperà la promotrice dell’iniziativa
  Carolina Morace\, europarlamentare del Movimento 5 Stelle – Gruppo The 
 Left.\n\nLa selezione delle immagini narra donne di epoche differenti\, im
 pegnate in discipline diverse. Ci sono mamme\, atlete con disabilità che 
 hanno vinto medaglie olimpiche prima dell’avvento delle Paralimpiadi\, r
 appresentanti Lgbtqia+.\n\nUn viaggio tra storia\, passione e conquiste ch
 e hanno cambiato il volto dello sport europeo al femminile.\n\nA rappresen
 tare l’Italia un’immagine di Federica Pellegrini\, ex pluri campioness
 a di nuoto\, oggi membro del CIO.\n\nInaugurazione: Sabato 7 marzo ore 17:
 00\n\nOrari di apertura della mostra:\n\n• Sabato 17:00 – 20:00\n\n•
  Domenica 12:00 – 18:00\n\nIngresso libero
ATTACH;FMTTYPE=image/jpeg:https://lazioeventi.com/wp-content/uploads/2026/
 03/Locandina-Mostra-LE-DONNE-E-LO-SPORT-IN-EUROPA-a-Cerveteri.jpg
CATEGORIES:Sport, Tempo Libero e Divertimento nel Lazio,Varie
LOCATION:Cerveteri\, Comune di Cerveteri\, Cerveteri\, Roma\, Lazio\, Itali
 a
GEO:41.9938;12.0935
X-APPLE-STRUCTURED-LOCATION;VALUE=URI;X-ADDRESS=Comune di Cerveteri\, Cerve
 teri\, Roma\, Lazio\, Italia;X-APPLE-RADIUS=100;X-TITLE=Cerveteri:geo:41.9
 938,12.0935
END:VEVENT
BEGIN:VTIMEZONE
TZID:Europe/Rome
X-LIC-LOCATION:Europe/Rome
BEGIN:STANDARD
DTSTART:20251026T020000
TZOFFSETFROM:+0200
TZOFFSETTO:+0100
TZNAME:CET
END:STANDARD
END:VTIMEZONE
END:VCALENDAR