BEGIN:VCALENDAR
VERSION:2.0
PRODID:-//wp-events-plugin.com//7.2.3.1//EN
TZID:Europe/Rome
X-WR-TIMEZONE:Europe/Rome
BEGIN:VEVENT
UID:40807@lazioeventi.com
DTSTART;TZID=Europe/Rome:20250301T110000
DTEND;TZID=Europe/Rome:20250329T190000
DTSTAMP:20250219T164315Z
URL:https://lazioeventi.com/eventi/mostra-giulio-turcato-liberta-e-felicit
 a
SUMMARY:Mostra "Giulio Turcato. Libertà e felicità" - Roma - 1 Marzo 25 1
 1:00
DESCRIPTION:Dal 1° al 29 marzo 2025 la Galleria Lombardi a Roma presenta n
 el trentennale della morte dell’artista la mostra Libertà e felicità d
 edicata a Giulio Turcato (Mantova\, 1912 – Roma\, 1995).\nGrande maestro
  dell’astrazione\, faro della rinascita artistica del secondo dopoguerra
 \, promotore di movimenti d’avanguardia\, tra cui il Gruppo Forma e il F
 ronte Nuovo delle Arti\, Giulio Turcato rimane tuttavia tra gli artisti it
 aliani più inafferrabili della seconda metà del Novecento: personalità 
 eccentrica\, amato da tutti\, poeta del segno e del colore\, sperimentator
 e di linguaggi\, trova\, quale primarie qualità espressive\, la libertà 
 e la felicità. Libera e felice fu la sua pittura\, e lo spirito con cui l
 a intraprese.\n\nGuglielmo Gigliotti\, che scrive il saggio in catalogo\, 
 lo descrive così: “Un uomo indubbiamente originale. Un uomo libero. Non
  sopportava le etichette\, non disdegnava la demistificazione\, non soppor
 tava chi si dava troppa importanza. L’autoironia fu una sua virtù umana
 \, l’ironia ne fu una artistica. La sua pittura vibra segretamente di ir
 onia\, che è quel distacco con cui si affrontano le vicissitudini della v
 ita. Libero di giocare si è sentito Turcato per tutta la vita\, anche se 
 era il gioco serio dell’arte e della vita”.\n\n25 le opere riunite da 
 Lorenzo ed Enrico Lombardi in una mostra che costituisce una piccola e pre
 ziosa antologica\, in cui sono rappresentati tutti i cicli più importanti
  del pittore: dai rari «Comizi» del 1948 (sintesi astratto figurativi di
  impegno civile)\, ai «Reticoli» (ragnatele di linee su campo monocromo)
 \, agli «Itinerari» (guizzanti filamenti di luce-colore)\, alle «Superf
 ici lunari» (gommapiume con crateri)\, ai «Paesaggi archeologici» (stra
 tificazioni della pittura e di Roma)\, agli «Arcipelaghi» (danza di mass
 e) e ai collage (di carta moneta).\n\nE sempre Gigliotti scrive: “La sua
  presenza fu così brillante\, la sua pittura così fresca\, il suo ingegn
 o così fertile\, e il suo carattere così felice\, che di questi trent’
 anni sembra quasi non potersi sentire la portata. La sua pittura è la sua
  eredità viva. Basta guardare bene i quadri in mostra: palpitano e sorrid
 ono\, tra limpidi chiarori e ombre misteriose\, tra campiture vibranti e a
 rabeschi casuali di linee saettanti\, tra “superfici lunari” profonde 
 come l’inconscio e geometrie quasi infantili”.\n\nLa mostra è accompa
 gnata da un catalogo edito dalla Galleria Lombardi\, con testo critico di 
 Guglielmo Gigliotti e una testimonianza di Giancarlo Limoni(25 agosto 1947
 –9 febbraio 2025)\, artista e amico di Giulio Turcato. Il testo è stato
  scritto da Limoni un mese prima del suo decesso. La Galleria Lombardi lo 
 ritiene il testamento poetico di un grande artista e un grande amico. Roma
 \, gennaio 2025\n\nSCHEDA INFORMATIVA\nMostra: Giulio Turcato. Libertà e 
 felicità\nSede: Galleria Lombardi - via di Monte Giordano 40\, 00186 Roma
 \nApertura al pubblico: 1° - 29 marzo 2025\nInaugurazione: sabato 1° mar
 zo 2025\, ore 18.00\nOrari: dal martedì al sabato\, ore 11.00 – 19.00. 
 Chiuso domenica e lunedì\nIngresso libero \nInformazioni: www.gallerialom
 bardi.com | +39 06 31073928 | +39 333 2307817 | info@gallerialombardi.com\
 nFacebook: @GalleriaLombardi | Instagram: @gallerialombardi\n
ATTACH;FMTTYPE=image/jpeg:https://lazioeventi.com/wp-content/uploads/2025/
 02/image001.jpg
CATEGORIES:Arte e Cultura nel Lazio
LOCATION:Roma\, Via Leopardi\, Roma\, Roma\, Lazio\, Italia
GEO:41.8942;12.5017
X-APPLE-STRUCTURED-LOCATION;VALUE=URI;X-ADDRESS=Via Leopardi\, Roma\, Roma\
 , Lazio\, Italia;X-APPLE-RADIUS=100;X-TITLE=Roma:geo:41.8942,12.5017
END:VEVENT
BEGIN:VTIMEZONE
TZID:Europe/Rome
X-LIC-LOCATION:Europe/Rome
BEGIN:STANDARD
DTSTART:20241027T020000
TZOFFSETFROM:+0200
TZOFFSETTO:+0100
TZNAME:CET
END:STANDARD
END:VTIMEZONE
END:VCALENDAR