BEGIN:VCALENDAR
VERSION:2.0
PRODID:-//wp-events-plugin.com//7.2.3.1//EN
TZID:Europe/Rome
X-WR-TIMEZONE:Europe/Rome
BEGIN:VEVENT
UID:42884@lazioeventi.com
DTSTART;TZID=Europe/Rome:20251108T100000
DTEND;TZID=Europe/Rome:20251109T183000
DTSTAMP:20251028T153019Z
URL:https://lazioeventi.com/eventi/mostra-i-funghi-e-il-bosco
SUMMARY:Mostra "I funghi e il bosco" - Roma - 8 Novembre 25 10:00
DESCRIPTION:Nei giorni 08 e 09 novembre 2025 sarà in esposizione\, nella s
 plendida cornice della Casa della Cultura e dello Sport Silvio Di Francia 
 - Villa De Sanctis\, in via Casilina 665 Roma\, la mostra “I funghi e il
  bosco” organizzata da Nuova Micologia – Associazione di Studi Micolog
 ici ETS\, giunta quest’anno alla XXIII edizione.\nL’immancabile appunt
 amento di stagione si propone di sensibilizzare i cittadini sul consumo re
 sponsabile e sulla corretta raccolta dei funghi epigei spontanei\, rispett
 ando l’ambiente e tutelando la biodiversità.\nLa mostra intende fornire
  un’ampia veduta d’insieme delle specie di funghi presenti in particol
 are nel Lazio e del loro habitat e informare sulla loro commestibilità o 
 pericolosità. I visitatori potranno ammirare il variegato e meraviglioso 
 regno dei funghi\, assistiti da esperti micologi che\, oltre a descrivere 
 le numerose specie esposte\, risponderanno alle diverse curiosità relativ
 e al mondo dei funghi: dai luoghi più adatti alla ricerca alle varie util
 izzazioni gastronomiche e alla pericolosità per una raccolta di materiale
  fungino non perfettamente riconosciuto.\nLa mostra avrà come valore aggi
 untivo una conferenza sui tartufi\, tenuta dal noto ed esperto micologo Gi
 orgio Materozzi\, alle ore 16.00 di sabato 8 novembre.\nLa mostra sarà ap
 erta sabato 08 novembre alle ore 10.00 e proseguirà fino alle ore 13.00 p
 er poi riaprire dalle 14.30 e fino alle 18.30. Domenica 09 novembre sarà 
 mantenuto lo stesso orario.\nL’ingresso alla mostra e alla conferenza è
  libero e gratuito.\nI visitatori\, oltre ad ammirare i funghi esposti\, p
 otranno iscriversi ai corsi di micologia e sulle erbe eduli organizzati da
  Nuova Micologia\, consultare le numerose pubblicazioni esposte in un appo
 sito settore\, apprezzare la galleria fotografica proposta nei vari locali
  della Casa della Cultura e dello Sport Silvio Di Francia - Villa De Sanct
 is e osservare al microscopio le varie tipologie di spore (“semi”) dei
  funghi.
ATTACH;FMTTYPE=image/jpeg:https://lazioeventi.com/wp-content/uploads/2025/
 10/locandina_30x49_nov2025-4leggerabis.jpg
CATEGORIES:Sagre, Gastronomia e Tradizioni nel Lazio
LOCATION:Roma\, Via Leopardi\, Roma\, Roma\, Lazio\, Italia
GEO:41.8942;12.5017
X-APPLE-STRUCTURED-LOCATION;VALUE=URI;X-ADDRESS=Via Leopardi\, Roma\, Roma\
 , Lazio\, Italia;X-APPLE-RADIUS=100;X-TITLE=Roma:geo:41.8942,12.5017
END:VEVENT
BEGIN:VTIMEZONE
TZID:Europe/Rome
X-LIC-LOCATION:Europe/Rome
BEGIN:STANDARD
DTSTART:20251026T020000
TZOFFSETFROM:+0200
TZOFFSETTO:+0100
TZNAME:CET
END:STANDARD
END:VTIMEZONE
END:VCALENDAR