BEGIN:VCALENDAR
VERSION:2.0
PRODID:-//wp-events-plugin.com//7.2.3.1//EN
TZID:Europe/Rome
X-WR-TIMEZONE:Europe/Rome
BEGIN:VEVENT
UID:40609@lazioeventi.com
DTSTART;TZID=Europe/Rome:20250121T090000
DTEND;TZID=Europe/Rome:20250228T190000
DTSTAMP:20250120T085449Z
URL:https://lazioeventi.com/eventi/mostra-il-tempo-del-futurismo
SUMMARY:Mostra Il tempo del Futurismo - Roma - 21 Gennaio 25 09:00
DESCRIPTION:Mostra futurismo di Annarita Canalella\n\nFino al 28 febbraio 2
 025\, la Galleria Nazionale d’Arte Moderna e Contemporanea di Roma ospit
 a Il tempo del Futurismo\, a cura di Gabriele Simongini\, promossa e soste
 nuta dal Ministero della Cultura.\n\nLa mostra Il Tempo del Futurismo alla
  Galleria Nazionale d’Arte Moderna e Contemporanea celebra l’ottantesi
 mo anniversario dalla scomparsa di Filippo Tommaso Marinetti\, avvenuta il
  2 dicembre 1944.\nDiversamente dalle mostre del passato dedicate al rivol
 uzionario movimento d’avanguardia fondato nel 1909 da Marinetti\, questa
  mostra si concentra sul rapporto tra arte e scienza/tecnologia e illustra
  quel completo rinnovamento della sensibilità umana avvenuto per effetto 
 delle grandi scoperte scientifiche posto alla base della nascita del Futur
 ismo. Una riflessione oggi attualissima\, se si pensa che lo tsunami tecno
 logico dell’intelligenza artificiale sta investendo l’umanità\, avver
 ando la profezia della macchinizzazione dell’umano e dell’umanizzazion
 e della macchina preconizzata proprio dai futuristi. La mostra punta a ess
 ere inclusiva\, didattica e multidisciplinare\, si rivolge al grande pubbl
 ico e in particolare alle nuove generazioni.\nPer questo illustra i concet
 ti di velocità\, di spazio\, di distanza e di sensibilità percettiva evi
 denti nei capolavori del Futurismo contestualizzandoli nella società dell
 ’epoca\, rivoluzionata dalle innovazioni scientifiche e tecnologiche.\nS
 aranno esposte circa 350 opere fra quadri\, sculture\, progetti\, disegni\
 , oggetti d’arredo\, film\, oltre a un centinaio fra libri e manifesti\,
  con un’attenzione alla matrice letteraria del movimento marinettiano ch
 e non ha precedenti\, insieme con un idrovolante\, automobili\, motociclet
 te e strumenti scientifici d’epoca. Per descrivere al meglio l’atmosfe
 ra futurista\, l’esposizione sarà arricchita da due installazioni site-
 specific di Magister Art e di Lorenzo Marini e sarà vivacizzata da talk e
  performance curati da Federico Palmaroli.\nSi ringraziano i musei italian
 i e stranieri\, tra cui il MOMA\, il Metropolitan Museum di New York\, il 
 Philadelphia Museum of Art\, la Estorick Collection di Londra e il Kunstmu
 seum Den Haag de L’Aia che con i loro prestiti hanno generosamente contr
 ibuito alla mostra. Il catalogo sarà pubblicato da Treccani\n\nFino al 28
  febbraio 2025\nDal martedì alla domenica\, dalle ore 9:00 alle ore 19:00
 \, l’ultimo ingresso è alle ore 18:15.\n\nOrari di apertura:\nDal marte
 dì a domenica dalle 9:00 alle 19:00\nUltimo ingresso 45 minuti prima dell
 a chiusura\n\nBiglietto intero: € 15\,00\n\nBiglietto ridotto: € 2\,00
 \n– cittadini UE di età compresa tra i 18 e i 25 anni\n\nBiglietto grat
 uito:\n– ogni prima domenica del mese e in occasione di giornate ad ingr
 esso gratuito l’accesso sarà garantito previa prenotazione di biglietto
  online. Si richiede il rispetto della fascia oraria di ingresso\n– 25 a
 prile\, 2 giugno e 4 novembre\n– visitatori di età inferiore a 18 anni\
 n– docenti e studenti iscritti alle facoltà di architettura\, di conser
 vazione dei beni culturali\, di scienze della formazione e ai corsi di lau
 rea in lettere o materie letterarie con indirizzo archeologico o storico a
 rtistico delle facoltà di lettere e filosofia\, o a facoltà e corsi corr
 ispondenti istituiti negli stati membri dell’Unione europea\n– portato
 ri di handicap e un accompagnatore che dimostri l’appartenenza a servizi
  di assistenza socio-sanitaria\n– giornalisti con tesserino in corso di 
 validità\n– guide turistiche\n– soci ICOM\n– dipendenti MiC\n\nConc
 essioni:\n– possessori Roma Pass
ATTACH;FMTTYPE=image/jpeg:https://lazioeventi.com/wp-content/uploads/2025/
 01/Il-tempo-del-futurismo-per-news-v2-16x9-1.jpg
CATEGORIES:Arte e Cultura nel Lazio
LOCATION:Roma\, Via Leopardi\, Roma\, Roma\, Lazio\, Italia
GEO:41.8942;12.5017
X-APPLE-STRUCTURED-LOCATION;VALUE=URI;X-ADDRESS=Via Leopardi\, Roma\, Roma\
 , Lazio\, Italia;X-APPLE-RADIUS=100;X-TITLE=Roma:geo:41.8942,12.5017
END:VEVENT
BEGIN:VTIMEZONE
TZID:Europe/Rome
X-LIC-LOCATION:Europe/Rome
BEGIN:STANDARD
DTSTART:20241027T020000
TZOFFSETFROM:+0200
TZOFFSETTO:+0100
TZNAME:CET
END:STANDARD
END:VTIMEZONE
END:VCALENDAR