BEGIN:VCALENDAR
VERSION:2.0
PRODID:-//wp-events-plugin.com//7.2.3.1//EN
TZID:Europe/Rome
X-WR-TIMEZONE:Europe/Rome
BEGIN:VEVENT
UID:7630@lazioeventi.com
DTSTART:20260410T090000Z
DTEND:20260412T190000Z
DTSTAMP:20260331T065459Z
URL:https://lazioeventi.com/eventi/mostra-internazionale-delle-orchidee
SUMMARY:Mostra Internazionale delle Orchidee - Monte Porzio Catone - 10 Apr
 ile 26 10:00
DESCRIPTION:Il centro storico di Monte Porzio Catone torna a vestirsi di fi
 ori per la XXIX edizione di “Orchidee dal Mondo”.\n\nSin dal 1996 la m
 ostra è un appuntamento imperdibile tra le iniziative dei Castelli Romani
  e della Regione Lazio. Il nostro meraviglioso borgo apre al pubblico i su
 oi tinelli caratteristici che diventano giardini esotici in cui ammirare l
 e delicate orchidee provenienti da diversi continenti.\n\nAnche quest’an
 no le cantine del territorio partecipano alla manifestazione con l'evento 
 nell'evento “Orchidee in Vino”\, offrendo ai visitatori la possibilit
 à di degustare le eccellenze dei vigneti locali.\n\nNella nostra “citt
 à del vino e del tempo”\, gioiello del Parco Regionale dei Castelli Rom
 ani\, fioriscono spontaneamente splendide orchidee sulle pendici del Tusco
 lo.\n\nIl 10\, 11 e 12 aprile\, dalle 10:00 alle 20:00\, Monte Porzio Cato
 ne accoglierà i turisti nel suo magnifico territorio ricco di Storia e tr
 adizione\, dalle ville rinascimentali alla riforma del Calendario Gregoria
 no vigente in tutto il mondo\, dall'area archeologica di Tuscolo all’uni
 co Museo del Vino del territorio tuscolano.\n\nSiamo impazienti di dare il
  benvenuto a tutti i visitatori che parteciperanno e vorranno condividere 
 con noi la bellezza del nostro borgo.\n\nVENERDÌ 10 APRILE\n10:00 | Apert
 ura Locali Espositivi (Centro Storico)\n10:00 – 19:00 | Artigianato Soli
 dale – Bottega IsoLab (Via Diaz 4)\n10:00 – 20:00 | Mostra d'Arte & Wo
 rkshop – Medina Art Gallery (Piazza del Mercato 9)\nCeramica\, flower de
 sign\, fotografia e oreficeria.\n16:30 – 18:00 | ORCH‘estra d’IDEE 
 – Palestra G. Carducci (Piazza Borghese 1)\n17:00 | Inaugurazione "Orchi
 dee in Vino" (Piazza Porzio Catone)\n17:00 | Taglio del nastro con il Sind
 aco (Piazza Borghese)\n17:00 | Il Giardino della Pasqua – Oratorio SS. S
 acramento (Piazza Duomo)\n18:30 | Degustazione: Bianchi del Vulcano – Mu
 seo del Vino (Piazza Trieste 11)\nA cura di Jacopo Manni. Su prenotazione.
 \n\nSABATO 11 APRILE\n10:00 | Apertura Locali Espositivi (Centro Storico)\
 n11:00 | Workshop: Tecniche di rinvaso – Agorà (Via IV Novembre 18)\n11
 :30 | Presentazione: Il Giardino della Risurrezione (Duomo S. Gregorio Mag
 no)\n16:00 | Conferenza: Il mondo delle orchidee – Agorà (Via IV Novemb
 re 18)\n17:00 | Apertura "Orchidee in Vino" (Piazza Porzio Catone)\n17:30 
 | Libro: "Il tè e le orchidee" di Linda Reali – Agorà (Via IV Novembre
  18)\n18:30 | Degustazione: I Rossi del Vulcano – Museo del Vino (Piazza
  Trieste 11)\n18:30 | Concerti Polifonici – Villa Mondragone (Ingresso L
 ibero)\n\nDOMENICA 12 APRILE\n10:00 | Conferenza: Nomenclatura delle orchi
 dee – Agorà (Via IV Novembre 18)\n11:00 | Workshop: Tecniche di rinvaso
  – Agorà (Via IV Novembre 18)\n12:00 | Incontro: Orchidee\, medicina pe
 r l'anima – Agorà (Via IV Novembre 18)\n16:00 | Workshop Coltivazione 
 – Agorà (Via IV Novembre 18)\n16:00 & 18:00 | Musica Barocca – Orator
 io Sant'Antonino Martire\n17:00 | Apertura "Orchidee in Vino" (Piazza Porz
 io Catone)\n18:30 | Degustazione: L’hai mai assaggiato un fiore? – Mus
 eo del Vino (Piazza Trieste 11)\n\nDegustazione guidata di fiori eduli.\n\
 nPer info\, Costi e Prenotazioni:\nWorkshop & Arte: info@medinacastellirom
 ani.com\nDegustazioni Museo del Vino: info@museodelvinomapc.it\nChiusura m
 anifestazione: Ore 20:00 (tutti i giorni)\n\n\n\n
ATTACH;FMTTYPE=image/jpeg:https://lazioeventi.com/wp-content/uploads/2024/
 02/orchidee-dal-mondo.jpg
CATEGORIES:Fiere e Mercatini nel Lazio,Musica, Spettacoli e Danza nel
 Lazio
LOCATION:Monte Porzio Catone\, Comune\, Monte Porzio Catone\, Roma\, Lazio\
 , Italia
GEO:41.8156;12.7166
X-APPLE-STRUCTURED-LOCATION;VALUE=URI;X-ADDRESS=Comune\, Monte Porzio Caton
 e\, Roma\, Lazio\, Italia;X-APPLE-RADIUS=100;X-TITLE=Monte Porzio Catone:g
 eo:41.8156,12.7166
END:VEVENT
END:VCALENDAR