BEGIN:VCALENDAR
VERSION:2.0
PRODID:-//wp-events-plugin.com//7.2.3.1//EN
TZID:Europe/Rome
X-WR-TIMEZONE:Europe/Rome
BEGIN:VEVENT
UID:35853@lazioeventi.com
DTSTART;TZID=Europe/Rome:20230617T110000
DTEND;TZID=Europe/Rome:20230617T123000
DTSTAMP:20230612T084112Z
URL:https://lazioeventi.com/eventi/mostra-patrimonium-appiae
SUMMARY:Mostra "Patrimonium Appiae" - Roma - 17 Giugno 23 11:00
DESCRIPTION:In occasione delle Giornate dell'archeologia in Europa:\n\nIl C
 asale di Santa Maria Nova\, al V miglio della via Appia Antica e accessibi
 le dal civico 251\, fa parte di una tenuta di circa quattro ettari acquisi
 ta al Demanio dello Stato nel 2006\, di notevole pregio paesaggistico e cu
 lturale. Fulcro del sito è il casale costruito in epoca medievale al di s
 opra di una cisterna romana a camere parallele con volte a botte\, rimaneg
 giato nei secoli a seguire e ora punto di accoglienza e sede espositiva. I
 l casale ospita attualmente la mostra archeologica "Patrimonium Appiae. De
 positi emersi” che espone materiali provenienti dal territorio attravers
 ato dalle antiche strade Appia\, Latina e Ardeatina. Si tratta di material
 i inediti e provenienti da depositi\, presentati in dialogo con opere d'ar
 te contemponea.\n\nVisita guidata\nAlla scoperta di Santa Maria Nova e del
 la mostra "Patrimonium Appiae"\nGuidati dal personale del Parco archeologi
 co dell'Appia Antica visiteremo il casale di Santa Maria Nova e la mostra 
 "Patrimonium Appiae"\, alla scoperta dei resti provenienti dal territorio 
 delle vie Appia\, Latina e Ardeatina.\n\n8.00 €\, Ci sono tariffe sconta
 te\nSabato 17 giugno de 11:00 à 12:30
ATTACH;FMTTYPE=image/jpeg:https://lazioeventi.com/wp-content/uploads/2023/
 06/Casale-di-Santa-Maria-Nova.jpg
CATEGORIES:Arte e Cultura nel Lazio
LOCATION:Roma\, Via Leopardi\, Roma\, Roma\, Lazio\, Italia
GEO:41.8942;12.5017
X-APPLE-STRUCTURED-LOCATION;VALUE=URI;X-ADDRESS=Via Leopardi\, Roma\, Roma\
 , Lazio\, Italia;X-APPLE-RADIUS=100;X-TITLE=Roma:geo:41.8942,12.5017
END:VEVENT
BEGIN:VTIMEZONE
TZID:Europe/Rome
X-LIC-LOCATION:Europe/Rome
BEGIN:DAYLIGHT
DTSTART:20230326T030000
TZOFFSETFROM:+0100
TZOFFSETTO:+0200
TZNAME:CEST
END:DAYLIGHT
END:VTIMEZONE
END:VCALENDAR