BEGIN:VCALENDAR
VERSION:2.0
PRODID:-//wp-events-plugin.com//7.2.3.1//EN
TZID:Europe/Rome
X-WR-TIMEZONE:Europe/Rome
BEGIN:VEVENT
UID:41184@lazioeventi.com
DTSTART;TZID=Europe/Rome;VALUE=DATE:20250425
DTEND;TZID=Europe/Rome;VALUE=DATE:20250502
DTSTAMP:20250408T091429Z
URL:https://lazioeventi.com/eventi/mostra-personala-di-laal-abaziri-mondo-
 su-tela
SUMMARY:Mostra personala di Laal Abaziri - Mondo su tela - Roma - 25 Aprile
  25 00:00
DESCRIPTION:Mondo su tela\nPersonale di\nLaal Abazari\n(Roma\, 25 aprile 
 – 1 maggio 2025)\nA cura di Amir Sharifi\nGalleria Arte Sempione_Corso S
 empione 8\, Roma\nOrganizzazione di Mario Borgato\n\nDal 25 aprile al 1 ma
 ggio la Galleria Arte Sempione in collaborazione con la rivista internazio
 nale PASFORTE ospiterà Mondo su tela\, arte in un racconto di silenzio e 
 colore\, personale di Laal Abazari\, un’artista assai versatile le cui o
 pere riuniscono culture provenienti da molti Paesi\, trasmettendo un messa
 ggio di solidarietà e di unità attraverso il linguaggio universale dell
 ’arte.\n\nLaal Abazari è nata nel 1978 a Baktiari in Khuzestan\, una de
 lle trentuno provincie dell’Iran e ha vissuto tra Teheran\, Dubai\, Ista
 nbul\, Düsseldorf\; ora porta a Roma\, nel cuore pulsante dell’arte eur
 opea\, la sua esperienza per sottolineare l’importanza dell’unità tra
  i popoli.\n\nAmir Sharifi\, curatore internazionale e Direttore responsab
 ile della rivista canadese Pasforte ci dice: “Entrare nel panorama inter
 nazionale dell’arte e operare a livello globale richiede un’attenzione
  e una sensibilità particolare: è necessario conoscere a fondo la cultur
 a e le caratteristiche artistiche sia del Paese d’origine dell’artista
  quanto del luogo in cui l’opera viene esposta. Non si può semplicement
 e esporre\, senza una visione chiara\, rischiando di compromettere il futu
 ro artistico di un talento con scelte errate.\nAbbiamo trovato nella Galle
 ria Arte Sempione un team di professionisti\, una famiglia di amanti dell
 ’arte: tutto viene gestito con il massimo della professionalità\, andan
 do oltre una prospettiva solo commerciale.\nNoi vediamo l’arte in un mod
 o diverso. Pensiamo in modo globale.”\n\nContatti:\nMario Borgato +39 37
 5 820 6933\nAmir Sharifi    +39 350 986 6646\ninfo@parsforte.com\n
ATTACH;FMTTYPE=image/jpeg:https://lazioeventi.com/wp-content/uploads/2025/
 04/Locandina-1.jpeg
CATEGORIES:Arte e Cultura nel Lazio
LOCATION:Roma\, Via Leopardi\, Roma\, Roma\, Lazio\, Italia
GEO:41.8942;12.5017
X-APPLE-STRUCTURED-LOCATION;VALUE=URI;X-ADDRESS=Via Leopardi\, Roma\, Roma\
 , Lazio\, Italia;X-APPLE-RADIUS=100;X-TITLE=Roma:geo:41.8942,12.5017
END:VEVENT
BEGIN:VTIMEZONE
TZID:Europe/Rome
X-LIC-LOCATION:Europe/Rome
BEGIN:DAYLIGHT
DTSTART:20250330T030000
TZOFFSETFROM:+0100
TZOFFSETTO:+0200
TZNAME:CEST
END:DAYLIGHT
END:VTIMEZONE
END:VCALENDAR