BEGIN:VCALENDAR
VERSION:2.0
PRODID:-//wp-events-plugin.com//7.2.3.1//EN
TZID:Europe/Rome
X-WR-TIMEZONE:Europe/Rome
BEGIN:VEVENT
UID:43554@lazioeventi.com
DTSTART;TZID=Europe/Rome:20260130T180000
DTEND;TZID=Europe/Rome:20260130T180000
DTSTAMP:20260114T220909Z
URL:https://lazioeventi.com/eventi/mostra-personale-angela-thouless
SUMMARY:Mostra personale Angela Thouless - Roma - 30 Gennaio 26 18:00
DESCRIPTION:L’evento di opening si terrà il giorno venerdì 30 gennaio a
 lle ore 18:00 presso la galleria di via Merulana 220.\n\nLa pittura di Ang
 ela Thouless nasce da un gesto istintivo e continuo\, sviluppato nel corso
  di oltre vent’anni di ricerca tra pittura e linguaggio urbano. Formata 
 ad Aberdeen\, dove vive e lavora\, l’artista trova un momento decisivo n
 el 2012 con l’incontro con la street art di Amsterdam\, che segna una sv
 olta nella sua pratica: il muro diventa spazio espressivo e la bomboletta 
 spray strumento di libertà e sperimentazione.\n\nLe opere in mostra si co
 nfigurano come paesaggi mentali in trasformazione\, in cui maschere ritual
 i\, figure simboliche ed elementi della quotidianità contemporanea conviv
 ono in composizioni dense e vibranti. Culture lontane si incontrano\, dand
 o vita a un linguaggio visivo che supera confini geografici e temporali. I
 l colore occupa un ruolo centrale nella ricerca dell’artista: intenso\, 
 contrastato e diretto\, attiva lo spazio dell’opera e coinvolge lo spett
 atore in modo immediato. In questo equilibrio tra spontaneità e controllo
 \, gioco e consapevolezza\, il gesto pittorico si fa esperienza sensoriale
 .\n\nInfluenzata dall’Espressionismo tedesco\, dall’arte primitiva e d
 alla street art\, Angela Thouless costruisce un universo visivo in cui il 
 gesto pittorico è diretto e quasi fisico. La forza decorativa delle\nimma
 gini si intreccia a una tensione simbolica e narrativa che rimanda a una d
 imensione collettiva e ancestrale\, in cui l’immagine non descrive ma ev
 oca\, lasciando emergere ciò che pulsa sotto la\nsuperficie.\n\nLa mostra
  si presenta così come uno spazio di incontro e attraversamento\, in cui 
 istinto e memoria\, passato e presente\, individuo e collettività dialoga
 no apertamente. Un’esperienza visiva che invita lo spettatore a lasciars
 i coinvolgere da un linguaggio pittorico libero e vitale\, capace di parla
 re allo sguardo contemporaneo.
ATTACH;FMTTYPE=image/jpeg:https://lazioeventi.com/wp-content/uploads/2026/
 01/locandina-ridimensionata-angela.jpg
CATEGORIES:Arte e Cultura nel Lazio
LOCATION:Roma\, Via Leopardi\, Roma\, Roma\, Lazio\, Italia
GEO:41.8942;12.5017
X-APPLE-STRUCTURED-LOCATION;VALUE=URI;X-ADDRESS=Via Leopardi\, Roma\, Roma\
 , Lazio\, Italia;X-APPLE-RADIUS=100;X-TITLE=Roma:geo:41.8942,12.5017
END:VEVENT
BEGIN:VTIMEZONE
TZID:Europe/Rome
X-LIC-LOCATION:Europe/Rome
BEGIN:STANDARD
DTSTART:20251026T020000
TZOFFSETFROM:+0200
TZOFFSETTO:+0100
TZNAME:CET
END:STANDARD
END:VTIMEZONE
END:VCALENDAR