BEGIN:VCALENDAR
VERSION:2.0
PRODID:-//wp-events-plugin.com//7.2.3.1//EN
TZID:Europe/Rome
X-WR-TIMEZONE:Europe/Rome
BEGIN:VEVENT
UID:40028@lazioeventi.com
DTSTART;TZID=Europe/Rome;VALUE=DATE:20241011
DTEND;TZID=Europe/Rome;VALUE=DATE:20241018
DTSTAMP:20241014T093941Z
URL:https://lazioeventi.com/eventi/mostra-personale-dellartista-alessandro
 -palmiero-urbaneye
SUMMARY:Mostra personale dell'artista Alessandro Palmiero "UrbanEye" - Roma
  - 11 Ottobre 24 00:00
DESCRIPTION:Dall’11 al 17 ottobre Medina Art Gallery presenta la mostra f
 otografica di Alessandro Palmiero UrbanEye\, testo curatoriale e presentaz
 ione a cura di Dalila Tilocca\, presso la galleria di via Angelo Poliziano
  4-6.\n\nL’evento di opening si terrà il giorno venerdì 11 ottobre 2
 024 ore 18.00 presso la galleria di via Angelo Poliziano 4-6 con la presen
 tazione di Dalila Tilocca\n\nUrbanEye- Il ‘file rouge’ che diventa il 
 ritratto di una società ha un imprescindibile condizione: la spontaneita
 ̀ della vita quotidiana. La fotografia di strada infatti è un intenso v
 iaggio alla scoperta di un mondo che si trasforma. Ogni istante non si rip
 eterà più. Il fotografo\, quindi\, deve essere in grado di catturare l
 ’interazione tra elementi di strada seppur il nesso non sia necessariame
 nte fisico. Queste istantanee di realtà ci offrono una passeggiata sul m
 ondo al ritmo delle strade e al suon di sfumature e luci.\n\nCon uno stile
  narrativo evocativo Alessandro Palmiero ci offre un dialogo tra l'opera e
  lo spazio circostante\, esaltando il legame tra l’artista e il tessuto 
 urbano. Egli trasforma la città in una galleria a cielo aperto\, cattura
 ndo l'essenza della street art in un dialogo tra materia urbana e sguardo 
 umano.\n\nUrbanEye è una celebrazione del dinamismo della città\, un i
 nvito a soffermarsi su quei dettagli che spesso sfuggono\, ma che rapprese
 ntano l’essenza stessa della vita metropolitana.\nLe sue fotografie rich
 iamano una molteplicità di stati d’animo con l’obbiettivo di invitar
 e lo spettatore a vedere oltre l’ordinario e godere della pura poesia vi
 siva. L’artista stesso invita lo spettatore a soffermarsi\, perdersi nei
  dettagli e lasciarsi guidare dal sentimento\, piuttosto che dalla mera os
 servazione\, per riscoprire la bellezza della vita in ogni angolo.\n\nFerm
 atevi\, guardate\, apprezzate\, vivete il presente e l’istante.\n\nIn br
 eve:\nTitolo mostra: UrbanEye\nOpening mostra: venerdì 11 ottobre h 18\n
 Durata mostra: dall’11 al 17 ottobre 2024\nLuogo: Medina Art Gallery / V
 ia Angelo Poliziano\, 4-6 / Roma\n\nContatti Medina Art Gallery:\nEmail: i
 nfo@medinaroma.com - Tel. +39 06 960 30 764\nSocial: facebook.com / medina
 roma.arte / Instagram.com / medinaroma.arte Website: https://www.medinarom
 a.com\nOrario di apertura: Tutti i giorni 10.00-13.00 / 15.00-19.00
ATTACH;FMTTYPE=image/jpeg:https://lazioeventi.com/wp-content/uploads/2024/
 10/Locandina.jpeg
CATEGORIES:Arte e Cultura nel Lazio
LOCATION:Roma\, Via Leopardi\, Roma\, Roma\, Lazio\, Italia
GEO:41.8942;12.5017
X-APPLE-STRUCTURED-LOCATION;VALUE=URI;X-ADDRESS=Via Leopardi\, Roma\, Roma\
 , Lazio\, Italia;X-APPLE-RADIUS=100;X-TITLE=Roma:geo:41.8942,12.5017
END:VEVENT
BEGIN:VTIMEZONE
TZID:Europe/Rome
X-LIC-LOCATION:Europe/Rome
BEGIN:DAYLIGHT
DTSTART:20240331T030000
TZOFFSETFROM:+0100
TZOFFSETTO:+0200
TZNAME:CEST
END:DAYLIGHT
END:VTIMEZONE
END:VCALENDAR