BEGIN:VCALENDAR
VERSION:2.0
PRODID:-//wp-events-plugin.com//7.2.3.1//EN
TZID:Europe/Rome
X-WR-TIMEZONE:Europe/Rome
BEGIN:VEVENT
UID:32659@lazioeventi.com
DTSTART;TZID=Europe/Rome;VALUE=DATE:20221015
DTEND;TZID=Europe/Rome;VALUE=DATE:20221107
DTSTAMP:20221013T083631Z
URL:https://lazioeventi.com/eventi/mostra-personale-di-carla-nico
SUMMARY:Mostra Personale di Carla Nico - Genzano di Roma - 15 Ottobre 22 00
 :00
DESCRIPTION:Ad un anno dalla mostra “Questa mia terra”\, l’Universit
 à Appia APS è lieta di presentare una nuova rilevante iniziativa cultura
 le. \n\nLe mura dello storico palazzo Sforza Cesarini di Genzano di Roma a
 ccoglieranno la mostra “Eterna Splendo” dell’artista Carla Nico\, a 
 cura di Maria Cristina Cadolini e Liliana Ferrari. \nLe opere saranno espo
 ste dal 15 ottobre al 06 novembre. \nL’iniziativa è patrocinata dal Com
 une di Genzano di Roma e dal Sistema Castelli Romani.\n\n“E’ un grande
  piacere avere la Nico tra quegli artisti del territorio che hanno trovato
  spazio e accoglienza nel Palazzo rinascimentale\, che giace disteso tra i
 l lago di Diana e l’orizzonte marino laziale. Un’artista ispirata dal 
 tempo antico\, dalla storia\, dalla mitologia\, dalla figura evocativa del
  femminile. Pennellate decise\, attraversano la tela per raffigurare la fo
 rza dirompente del fantastico” ha dichiarato Giulia Briziarelli\, Assess
 ore alla Cultura di Genzano di Roma. \n“La Mostra “Eterna Splendo” d
 ell’artista Carla Nico a Palazzo Sforza Cesarini è un nuovo tassello de
 ll’iniziativa culturale che l’Università Appia vuole aggiungere a Gen
 zano e al territorio del Castelli Romani. Un tassello che i visitatori pot
 ranno costruire insieme a UNIAPPIA nei numerosi momenti artistici e cultur
 ali che fanno da corollario alla mostra durante il mese di svolgimento” 
 ha commentato Marcello Rossi\, Presidente dell’associazione. \n\nInfatti
 \, ci saranno presentazioni di libri\, concerti\, letture di poesie e “P
 illole d’arte” duranti le quali Carla Nico mostrerà le tecniche di pi
 ttura al pubblico. Nell’ultimo fine settimana è prevista una collettiva
  degli artisti dell’Accademia Castrimeniense di Marino.\n\nLa mostra Ete
 rna Splendo raccoglie quelle opere della pittrice che più raccontano la c
 omunione con la natura\, il cambiare delle stagioni e l’energia che deri
 va dal cambiamento. Eterna Splendo vuole essere il racconto del tempo sull
 a Terra\, del passare delle stagioni e dei frutti che maturano. La luce de
 i colori sulla tele restituisce la sottile energia che deriva dalla trasfo
 rmazione\, dal cambiamento. E alla luce del cambiamento\, anche quello cli
 matico\, è la Terra\, la nostra Gea che eterna splende\, nella rigogliosa
  natura e nelle amniotiche acque che la ricoprono.
ATTACH;FMTTYPE=image/jpeg:https://lazioeventi.com/wp-content/uploads/2022/
 10/carla-nico.jpg
CATEGORIES:Arte e Cultura nel Lazio
LOCATION:Genzano di Roma\, Comune di Genzano di Roma\, Genzano di Roma\, Ro
 ma\, Lazio\, Italia
GEO:41.7074;12.6901
X-APPLE-STRUCTURED-LOCATION;VALUE=URI;X-ADDRESS=Comune di Genzano di Roma\,
  Genzano di Roma\, Roma\, Lazio\, Italia;X-APPLE-RADIUS=100;X-TITLE=Genzan
 o di Roma:geo:41.7074,12.6901
END:VEVENT
BEGIN:VTIMEZONE
TZID:Europe/Rome
X-LIC-LOCATION:Europe/Rome
BEGIN:DAYLIGHT
DTSTART:20220327T030000
TZOFFSETFROM:+0100
TZOFFSETTO:+0200
TZNAME:CEST
END:DAYLIGHT
BEGIN:STANDARD
DTSTART:20221030T020000
TZOFFSETFROM:+0200
TZOFFSETTO:+0100
TZNAME:CET
END:STANDARD
END:VTIMEZONE
END:VCALENDAR