BEGIN:VCALENDAR
VERSION:2.0
PRODID:-//wp-events-plugin.com//7.2.3.1//EN
TZID:Europe/Rome
X-WR-TIMEZONE:Europe/Rome
BEGIN:VEVENT
UID:37717@lazioeventi.com
DTSTART;TZID=Europe/Rome;VALUE=DATE:20231215
DTEND;TZID=Europe/Rome;VALUE=DATE:20231222
DTSTAMP:20231109T090942Z
URL:https://lazioeventi.com/eventi/mostra-personale-di-celestino-gallo
SUMMARY:Mostra personale di Celestino Gallo - Roma - 15 Dicembre 23 00:00
DESCRIPTION:Dal 15 al 21 dicembre 2023 Medina Art Gallery presenta la mostr
 a personale di Celestino Gallo nella galleria di Via Angelo Poliziano 32-3
 4.\n\nL’evento di opening si terrà il giorno venerdì 15 dicembre press
 o Medina Art Gallery di Via A. Poliziano 32-34 con performance di violino 
 di Kuancheng Wei alle ore 18:00.\n\nCelestino Gallo\, artista poliedrico e
  a tutto tondo\, nasce nel 1914 a Fossano\, in Piemonte. Abile artigiano i
 ntagliatore intraprende gli studi in Architettura per poi approfondire il 
 suo interesse sia nella scultura\, presso la Reale Accademia Albertina di 
 Torino\, che nella pittura presso l’Accademia di Brera. Mosso dal deside
 rio di viaggiare\, l’artista si trasferisce con la sua famiglia in Cile.
  Qui nel 1947 combina la sua forte passione per l’architettura con un nu
 ovo interesse: quello per l’insegnamento. Ricopre il ruolo di docente pe
 r la facoltà di Architettura di Santiago del Cile e proprio in questa cit
 tà realizza diverse opere d’arte a carattere ecclesiastico.\n\nNel 1960
  decide di trasferirsi definitivamente in Italia e a Vicenza sperimenta un
 a nuova forma di fare arte: la ceramica. In seguito allo spostamento nella
  città di Torino egli si vede coinvolto nel sociale dove ha modo di espri
 mere la sua piena maturità stilistica nella realizzazione di un’archite
 ttura in bronzo per la città di Susa\; vive gli ultimi anni di vita a Des
 enzano del Garda\, dove si dedica a lavori di ceramica e a pitture aventi 
 come soggetti principali i meravigliosi paesaggi che adorava.\n\nNonostant
 e l’esplorazione in vari campi\, il più grande amore dell’artista rim
 ane la pittura a cui si dedica come se fosse quasi un momento meditativo\,
  una preziosa opportunità per entrare in connessione con se stesso e per 
 esplorare la sua individualità. Questa dimensione gli permette di portare
  su tela anche il cambiamento stilistico dovuto alle contaminazioni dei lu
 oghi in cui vive: dal classico paesaggismo piemontese\, a sperimentazioni 
 più attinenti all’epoca post-impressionista e cubista\, fino ad arrivar
 e ad influenze legate al realismo magico\, tipico stile pittorico sudameri
 cano.\n\nRazionalità e irrazionalità sono due aspetti che convivono armo
 nicamente nelle opere: le forme dal carattere geometrico e squadrato crist
 allizzano dei momenti che sembrano essere senza tempo e accompagnano in ma
 niera coerente i soggetti del quadro che si fanno portavoce di una moltepl
 icità di significati. Il richiamo ad una dimensione onirica\, quasi magic
 a\, comporta una percezione del quadro sotto più dimensioni\; l’obietti
 vo è quello di incoraggiare chi guarda ad una elaborazione della realtà 
 che parte dal dato oggettivo ma che è in grado di andare oltre a ciò che
  viene percepito per scavare nelle profondità interiori e arrivare\, cos
 ì\, a godere di un’esperienza totalmente soggettiva.\nIn breve:\nTitolo
  Mostra: Mostra personale di Celestino Gallo\n\nOpening Mostra: venerdì 1
 5 dicembre alle ore 18:00\n\nDurata Mostra: dal 15 al 21 dicembre 2023\n\n
 Luogo: Medina Art Gallery | Via A. Poliziano 32-34 | Roma\n\n \n\nContatt
 i Medina Roma Art Gallery\n\nEmail: info@medinaroma.com - Tel. +39 06 960 
 30 764\n\nWebsite: https://www.medinaroma.com/\n\nSocial: facebook.com/med
 inaroma.arte / instagram.com/medinaroma.arte\n\nOrari: Dal lunedì al vene
 rdì ore 10:00 - 13:00 e 15:00 - 19:00
ATTACH;FMTTYPE=image/jpeg:https://lazioeventi.com/wp-content/uploads/2023/
 11/Loc._Celestino_Gallo.jpg
CATEGORIES:Arte e Cultura nel Lazio,Varie
LOCATION:Roma\, Via Leopardi\, Roma\, Roma\, Lazio\, Italia
GEO:41.8942;12.5017
X-APPLE-STRUCTURED-LOCATION;VALUE=URI;X-ADDRESS=Via Leopardi\, Roma\, Roma\
 , Lazio\, Italia;X-APPLE-RADIUS=100;X-TITLE=Roma:geo:41.8942,12.5017
END:VEVENT
BEGIN:VTIMEZONE
TZID:Europe/Rome
X-LIC-LOCATION:Europe/Rome
BEGIN:STANDARD
DTSTART:20231029T020000
TZOFFSETFROM:+0200
TZOFFSETTO:+0100
TZNAME:CET
END:STANDARD
END:VTIMEZONE
END:VCALENDAR