BEGIN:VCALENDAR
VERSION:2.0
PRODID:-//wp-events-plugin.com//7.2.3.1//EN
TZID:Europe/Rome
X-WR-TIMEZONE:Europe/Rome
BEGIN:VEVENT
UID:32912@lazioeventi.com
DTSTART;TZID=Europe/Rome:20221104T180000
DTEND;TZID=Europe/Rome:20221117T190000
DTSTAMP:20221103T205613Z
URL:https://lazioeventi.com/eventi/mostra-personale-di-christin-behrend
SUMMARY:Mostra personale di Christin Behrend - Roma - 4 Novembre 22 18:00
DESCRIPTION:Il vernissage della mostra “Point to Head” è alle ore 18.0
 0 di venerdì 4 novembre 2022 e l'esposizione resta aperta sino al 17 nove
 mbre 2022\, con orario 10-13 e 15-19\, dal lunedì al venerdì.\n\nLa most
 ra è articolata in due parti: nello spazio espositivo di Via Angelo Poliz
 iano 32-34 si terrà la mostra collettiva\, in Via Merulana 220 verrà ina
 ugurata la mostra personale dell’artista Christin Behrend. “Every good
  and perfect gift is from ABOVE” In questo periodo\, le persone hanno mo
 lte inquietudini\, a causa delle guerre\, delle malattie e delle crisi per
 sonali.\n\nMa vediamo la luce che lampeggia ogni tanto. La luce in tutte l
 e forme e colori. A volte in piccoli spotlight\, a volte come un’alba.\n
 \nLa natura in tutta la sua pienezza\, che se mostra nei fiori\, negli alb
 eri\, nelle stelle e nei pianeti. Esperienze radiose. Messaggeri di un’a
 ltra realtà. Le cose più importanti della vita vi sono date. Questo è c
 iò che raccontano I dipinti. ABOVE.
ATTACH;FMTTYPE=image/jpeg:https://lazioeventi.com/wp-content/uploads/2022/
 11/PERSONALE.jpeg
CATEGORIES:Arte e Cultura nel Lazio
LOCATION:Roma\, Via Leopardi\, Roma\, Roma\, Lazio\, Italia
GEO:41.8942;12.5017
X-APPLE-STRUCTURED-LOCATION;VALUE=URI;X-ADDRESS=Via Leopardi\, Roma\, Roma\
 , Lazio\, Italia;X-APPLE-RADIUS=100;X-TITLE=Roma:geo:41.8942,12.5017
END:VEVENT
BEGIN:VTIMEZONE
TZID:Europe/Rome
X-LIC-LOCATION:Europe/Rome
BEGIN:STANDARD
DTSTART:20221030T020000
TZOFFSETFROM:+0200
TZOFFSETTO:+0100
TZNAME:CET
END:STANDARD
END:VTIMEZONE
END:VCALENDAR