BEGIN:VCALENDAR
VERSION:2.0
PRODID:-//wp-events-plugin.com//7.2.3.1//EN
TZID:Europe/Rome
X-WR-TIMEZONE:Europe/Rome
BEGIN:VEVENT
UID:41760@lazioeventi.com
DTSTART;TZID=Europe/Rome:20250620T180000
DTEND;TZID=Europe/Rome:20250626T180000
DTSTAMP:20250603T103538Z
URL:https://lazioeventi.com/eventi/mostra-personale-di-giovanni-bonfiglio-
 per-il-tutto-mutar-natura-e-bella
SUMMARY:Mostra personale di Giovanni Bonfiglio “Per il tutto mutar natura
  è bella” - Roma - 20 Giugno 25 18:00
DESCRIPTION:Mostra personale di Giovanni Bonfiglio “Per il tutto mutar na
 tura è bella”\n\nTesto curatoriale di Livia Occhigrossi \n\n20 - 26 Giu
 gno 2025\, Roma\n\nDal 20 al 26 Giugno Medina Art Gallery presenta la most
 ra personale di Giovanni Bonfiglio\, testo curatoriale e presentazione a c
 ura di Livia Occhigrossi\,\n\npresso la galleria di via Merulana 220.\n\nL
 ’evento di opening si terrà il giorno venerdì 20 Giugno 2025 ore 18.00
  presso la galleria di via Merulana 220 con la presentazione di Livia Occh
 igrossi\n\nIl pittore genovese Giovanni Bonfiglio presenta Per il tutto mu
 tar natura è bella\, una raccolta di opere in acrilico su tela e legno ch
 e indagano il rapporto tra tecnica e poesia\, tra struttura e intuizione\,
  tra l’osservazione analitica e la bellezza silenziosa della forma. Un p
 ercorso artistico che affonda le radici nella curiosità scientifica dell
 ’infanzia\, tra radio smontate\, insetti collezionati e galassie immagin
 ate\, e si trasforma oggi in un linguaggio pittorico maturo\, disciplinato
 \, profondamente onesto.\n\nLa mostra ruota attorno a un’idea cardine: l
 ’equilibrio. Tra forme\, colori e luce\, Bonfiglio costruisce opere che 
 generano armonia e invitano alla contemplazione. Non propone verità assol
 ute\, ma lascia allo spettatore la libertà di cercare un proprio signific
 ato\, un proprio sentiero visivo ed emotivo. Ogni tela diventa così un in
 vito a osservare\, comprendere e\, forse\, a ricordare.\n\nPer il tutto mu
 tar natura è bella è un omaggio alla conoscenza e all’intuizione\, un 
 viaggio pittorico che celebra la curiosità come forma di resistenza e la 
 pittura come gesto di amore verso ciò che esiste\, e che spesso dimentich
 iamo di guardare davvero.\n\nAll’interno dell’esposizione\, il pubblic
 o potrà attraversare un universo visivo fatto di rigore e sensibilità\, 
 dove l’equilibrio cromatico genera un senso di pace e la luce diventa vo
 ce silenziosa delle emozioni.\nIn breve:\nTitolo Mostra: Per il tutto muta
 r natura è bella\nOpening Mostra: venerdì 20 Giugno h 18\nDurata Mostra:
  dal 20 al 26 Giugno 2025\nLuogo: Medina Art Gallery/ Via Merulana 220 / R
 oma\nContatti Medina Art Gallery:\nEmail: info@medinaroma.com - Tel. +39 0
 6 960 30 764\nSocial: facebook.com / medinaroma.arte / Instagram.com / med
 inaroma.arte\nWebsite: https://www.medinaroma.com\nOrario di apertura: Dal
  lunedì al venerdì ore 10.00-13.00/15.00-19.00
ATTACH;FMTTYPE=image/jpeg:https://lazioeventi.com/wp-content/uploads/2025/
 06/Formato-Square_Per-il-tutto-mutar-Natura-e-bella_page-0001.jpg
CATEGORIES:Arte e Cultura nel Lazio
LOCATION:Roma\, Via Leopardi\, Roma\, Roma\, Lazio\, Italia
GEO:41.8942;12.5017
X-APPLE-STRUCTURED-LOCATION;VALUE=URI;X-ADDRESS=Via Leopardi\, Roma\, Roma\
 , Lazio\, Italia;X-APPLE-RADIUS=100;X-TITLE=Roma:geo:41.8942,12.5017
END:VEVENT
BEGIN:VTIMEZONE
TZID:Europe/Rome
X-LIC-LOCATION:Europe/Rome
BEGIN:DAYLIGHT
DTSTART:20250330T030000
TZOFFSETFROM:+0100
TZOFFSETTO:+0200
TZNAME:CEST
END:DAYLIGHT
END:VTIMEZONE
END:VCALENDAR