BEGIN:VCALENDAR
VERSION:2.0
PRODID:-//wp-events-plugin.com//7.2.3.1//EN
TZID:Europe/Rome
X-WR-TIMEZONE:Europe/Rome
BEGIN:VEVENT
UID:42687@lazioeventi.com
DTSTART;TZID=Europe/Rome:20251020T180000
DTEND;TZID=Europe/Rome:20251023T200000
DTSTAMP:20251009T154055Z
URL:https://lazioeventi.com/eventi/mostra-personale-di-maria-bostrom-primo
 rdial-future
SUMMARY:Mostra personale di Maria Boström “PRIMORDIAL FUTURE” - Roma 
 - 20 Ottobre 25 18:00
DESCRIPTION:Mostra personale di Maria Boström “PRIMORDIAL FUTURE”\n\n
 Testo curatoriale a cura di Francesca Brunello\n\n20 – 23 Ottobre / 7 
 – 25 Novembre 2025\, Roma\n\nDal 20 al 23 Ottobre e dal 7 al 25 Novembre
  Medina Art Gallery presenta la mostra personale di Maria Boström\,\n\nt
 esto curatoriale a cura di Francesca Brunello\,\n\npresso la galleria di v
 ia Angelo Poliziano 4-6.\n\nL’evento di opening si terrà il giorno vene
 rdì 20 Ottobre 2025 ore 18.00 presso la galleria di via Angelo Poliziano 
 4-6\n\n \n\nPuò il futuro nascere dalle sue stesse origini?\n\nCon Primo
 rdial Future\, l’artista finlandese Maria Boström esplora il legame tra
  memoria ancestrale e visione contemporanea. La mostra\, articolata in due
  momenti (20–23 ottobre 2025 per la Rome Art Week e 7–25 novembre 2025
 ) presenta ventuno opere pittoriche inedite\, tele materiche attraversate 
 da stratificazioni\, incisioni e vibrazioni cromatiche che evocano il gest
 o primordiale e insieme aprono prospettive sul futuro.\n\nIl percorso espo
 sitivo dialoga con linguaggi interdisciplinari\, includendo tappeti d’ar
 tista (Moooi Carpets)\, stampe su plexiglass (Actam Rem Ago – Artform De
 sign AB)\, scialli d’autore (Schalfabrik) e gioielli con pietre grezze (
 Gaudy Stockholm). Ogni opera è attraversata da un’energia originaria ch
 e nasce dal contatto con la natura e dalla profondità emotiva della mater
 ia.\n\nPrimordial Future è un’esperienza immersiva in cui l’arte dive
 nta rito e trasformazione: le opere respirano\, cambiano con la luce e ins
 taurano un dialogo intimo con lo spettatore\, unendo idealmente passato\, 
 presente e futuro.\n\nMaria Boström vive e lavora a Stoccolma. Dopo un pe
 riodo formativo in Finlandia e un’esperienza decisiva a Hong Kong\, svil
 uppa un linguaggio astratto capace di tradurre vibrazioni interiori e paes
 aggi emotivi. Le sue opere sono state esposte in Scandinavia\, Italia e Sp
 agna\, in sedi come Casa Milà (Barcellona)\, No18 (Stoccolma) e M.A.D.S. 
 Art Gallery. Collabora con realtà internazionali tra arte e design\, tra 
 cui Moooi e Boffi De Padova Stockholm.\n\n&nbsp\;\n\n&nbsp\;\nIn breve:\nT
 itolo Mostra: PRIMORDIAL FUTURE\n\nOpening Mostra: venerdì 20 Ottobre h 1
 8\n\nDurata Mostra: dal 20 al 23 Ottobre e dal 7 al 25 Novembre 2025\n\nLu
 ogo: Medina Art Gallery/ Via Angelo Poliziano 4-6 / Roma\nContatti Medina 
 Art Gallery:\nEmail: info@medinaroma.com - Tel. +39 06 960 30 764\n\nSocia
 l: facebook.com / medinaroma.arte / Instagram.com / medinaroma.arte\n\nWeb
 site: https://www.medinaroma.com\n\nOrario di apertura: Dal lunedì al ven
 erdì ore 10.00-13.00/15.00-19.00\; sabato e domenica su appuntamento
ATTACH;FMTTYPE=image/jpeg:https://lazioeventi.com/wp-content/uploads/2025/
 10/POST_PRIMORDIAL_FUTURE_compressed.jpg
CATEGORIES:Arte e Cultura nel Lazio
LOCATION:Roma\, Via Leopardi\, Roma\, Roma\, Lazio\, Italia
GEO:41.8942;12.5017
X-APPLE-STRUCTURED-LOCATION;VALUE=URI;X-ADDRESS=Via Leopardi\, Roma\, Roma\
 , Lazio\, Italia;X-APPLE-RADIUS=100;X-TITLE=Roma:geo:41.8942,12.5017
END:VEVENT
BEGIN:VTIMEZONE
TZID:Europe/Rome
X-LIC-LOCATION:Europe/Rome
BEGIN:DAYLIGHT
DTSTART:20250330T030000
TZOFFSETFROM:+0100
TZOFFSETTO:+0200
TZNAME:CEST
END:DAYLIGHT
END:VTIMEZONE
END:VCALENDAR