BEGIN:VCALENDAR
VERSION:2.0
PRODID:-//wp-events-plugin.com//7.2.3.1//EN
TZID:Europe/Rome
X-WR-TIMEZONE:Europe/Rome
BEGIN:VEVENT
UID:39660@lazioeventi.com
DTSTART;TZID=Europe/Rome:20240927T100000
DTEND;TZID=Europe/Rome:20241003T190000
DTSTAMP:20240722T153315Z
URL:https://lazioeventi.com/eventi/mostra-personale-di-maria-grazia-emilia
 ni-sguardi-nel-deserto
SUMMARY:Mostra personale di Maria Grazia Emiliani "Sguardi nel deserto" - R
 oma - 27 Settembre 24 10:00
DESCRIPTION:SOLO EXHIBIT DI MARIA GRAZIA EMILIANI\n\n“SGUARDI NEL DESERTO
 ”\n\nTesto curatoriale e presentazione a cura di Matilde Spedicati \n\nR
 oma\, 27 settembre – 3 ottobre 2024 \n\nDal 27 settembre al 3 ottobre 20
 24 Medina Art Gallery presenta la mostra personale di Maria Grazia Emilian
 i\, “Sguardi nel deserto”\, testo curatoriale e presentazione a cura d
 i Matilde Spedicati\, presso la galleria di via Merulana\, 220.\n\nL’eve
 nto di opening si terrà il giorno venerdì 27 settembre 2024 alle ore 18:
 00 presso la galleria di via Merulana\, 220 con la presentazione di Matild
 e Spedicati\n\n \n\n&nbsp\;\n\nRosso è passione\, calore\, pericolo\, vi
 ta\, rabbia. Per Maria Grazia Emiliani\, rosso è Africa\, un desiderio na
 to dalla lettura di "Sognavo l’Africa" di Kuki Gallmann. Emiliani\, dipl
 omatasi all'Accademia di Belle Arti e\, in seguito\, all'Istituto di Arti 
 Ornamentali di Roma\, coltiva la sua passione per l'arte anche durante la 
 sua carriera al Senato. In pensione\, decide di vivere il suo sogno africa
 no\, come Karen Blixen\, e nel 2014 si reca a Mambrui\, Kenya\, per un mes
 e\, prestando assistenza in un orfanotrofio.\n\n&nbsp\;\n\nL'arte di Emili
 ani ci parla della sua esperienza africana. Le sue opere riflettono a pien
 o le contraddizioni di questa Terra: magnificenza\, vita\, amore\, ma anch
 e dramma\, violenza\, ignoto\, quindi pericolo. I suoi dipinti\, istantane
 e di memoria\, mostrano paesaggi e volti che riflettono la natura catartic
 a dell'Africa\, capace di evocare emozioni profonde e primitive. Emiliani 
 si allontana da quell’immaginario proprio dell’arte visiva coloniale\,
  euro-centrica\, mettendo in scena un’Africa personale\, fatta di paesag
 gi onirici\, come anche di legami\, simboli\, costumi –espressioni di un
 a civiltà. Questa sua fase artistica\, piuttosto libera da vincoli accade
 mici\, riflette uno sguardo primitivo\, intriso di lirismo\, che indaga la
  realtà\, alla ricerca di un senso\, nella consapevolezza delle molteplic
 i sfaccettature della vita su questa Terra\, proprio come la sua espressio
 ne artistica.\n\n&nbsp\;\n\nLa mostra itinerante di Emiliani rappresenta u
 n viaggio senza fine\, dove ogni quadro è una rivelazione costante. La te
 la diventa metafora della vita\, e l'arte di Emiliani immerge l’osservat
 ore nell'immaginario di un’Africa desiderata\, vissuta e combattuta\, in
 vitandolo\, al contempo\, a porsi in discussione\, riflettendo sul signifi
 cato degli sguardi indagati.\n\n&nbsp\;\n\nIn breve: \n\nTitolo Mostra: 
 “Sguardi nel deserto”\n\nOpening Mostra: venerdì 27 settembre h 18\n\
 nDurata Mostra: dal 27 settembre al 3 ottobre\, 2024\n\nLuogo: Medina Art 
 Gallery/ Via Merulana\, 220\n\n&nbsp\;\n\nContatti Medina Art Gallery: \n\
 nEmail: info@medinaroma.com -Tel. +39 06 960 30 764\n\nSocial: facebook.co
 m / medinaroma.arte / Instagram.com / medinaroma.arte\n\nWebsite: https://
 www.medinaroma.com\n\nOrario di apertura: Dal lunedì al venerdì 10:00-13
 :00 e 15:00-19:00
ATTACH;FMTTYPE=image/jpeg:https://lazioeventi.com/wp-content/uploads/2024/
 07/Locandina-.jpg
CATEGORIES:Arte e Cultura nel Lazio
LOCATION:Roma\, Via Leopardi\, Roma\, Roma\, Lazio\, Italia
GEO:41.8942;12.5017
X-APPLE-STRUCTURED-LOCATION;VALUE=URI;X-ADDRESS=Via Leopardi\, Roma\, Roma\
 , Lazio\, Italia;X-APPLE-RADIUS=100;X-TITLE=Roma:geo:41.8942,12.5017
END:VEVENT
BEGIN:VTIMEZONE
TZID:Europe/Rome
X-LIC-LOCATION:Europe/Rome
BEGIN:DAYLIGHT
DTSTART:20240331T030000
TZOFFSETFROM:+0100
TZOFFSETTO:+0200
TZNAME:CEST
END:DAYLIGHT
END:VTIMEZONE
END:VCALENDAR