BEGIN:VCALENDAR
VERSION:2.0
PRODID:-//wp-events-plugin.com//7.2.3.1//EN
TZID:Europe/Rome
X-WR-TIMEZONE:Europe/Rome
BEGIN:VEVENT
UID:41549@lazioeventi.com
DTSTART;TZID=Europe/Rome:20250524T170000
DTEND;TZID=Europe/Rome:20250530T200000
DTSTAMP:20250515T164635Z
URL:https://lazioeventi.com/eventi/mostra-personale-di-mario-palma
SUMMARY:Mostra personale di Mario Palma - Monte Porzio Catone - 24 Maggio 2
 5 17:00
DESCRIPTION:Dal 24 al 30 Maggio 2025 Medina Art Gallery Castelli Romani pre
 senta la mostra personale di Mario Palma intitolata “PARAFFI PITTORICI\,
  multicromie musicali del reale” a cura di Giusy Di Giovinazzo. L’even
 to di opening è previsto sabato 24 Maggio alle ore 17:00 presso la sede d
 i Medina Art Gallery Castelli Romani\, in Piazza del Mercato 9 a Monte Por
 zio Catone (RM). Dal testo della curatrice: "Paraffi pittorici è il titol
 o che incarna\, fin dal primo sguardo\, l’essenza di una pittura che si 
 fa scrittura espansa\, traccia autonoma\, dove il segno non è mai neutro\
 , mai meramente decorativo.\n\nIl termine “paraffo” designa\, infatti\
 , quel gesto apparentemente accessorio che si pone accanto alla firma per 
 accentuarne l’unicità e rafforzarne la presenza. Traslato in ambito vis
 ivo\, il paraffo diventa per Palma metafora del suo stesso fare pittorico:
  ogni opera è come una firma estesa nello spazio\, un dispositivo segnico
  che si afferma nel suo essere unico\, irripetibile\, profondamente indivi
 duale. Le composizioni\, dense e stratificate\, si configurano come strutt
 ure allegoriche\, attraverso cui l’artista indaga il rapporto tra radica
 mento e flusso\, permanenza e mutazione. Il disegno si fa algoritmo\, lo s
 pazio sembra in continua ridefinizione.\n\nEppure\, in questa apparente en
 tropia emerge un principio di armonia nascosta: l’intelligenza del caos\
 , una profonda musicalità sottesa in cui si manifesta il nucleo della poe
 tica di Mario Palma".
ATTACH;FMTTYPE=image/jpeg:https://lazioeventi.com/wp-content/uploads/2025/
 05/paraffi-pittorici.jpeg
CATEGORIES:Arte e Cultura nel Lazio
LOCATION:Monte Porzio Catone\, Comune\, Monte Porzio Catone\, Roma\, Lazio\
 , Italia
GEO:41.8156;12.7166
X-APPLE-STRUCTURED-LOCATION;VALUE=URI;X-ADDRESS=Comune\, Monte Porzio Caton
 e\, Roma\, Lazio\, Italia;X-APPLE-RADIUS=100;X-TITLE=Monte Porzio Catone:g
 eo:41.8156,12.7166
END:VEVENT
BEGIN:VTIMEZONE
TZID:Europe/Rome
X-LIC-LOCATION:Europe/Rome
BEGIN:DAYLIGHT
DTSTART:20250330T030000
TZOFFSETFROM:+0100
TZOFFSETTO:+0200
TZNAME:CEST
END:DAYLIGHT
END:VTIMEZONE
END:VCALENDAR