BEGIN:VCALENDAR
VERSION:2.0
PRODID:-//wp-events-plugin.com//7.2.3.1//EN
TZID:Europe/Rome
X-WR-TIMEZONE:Europe/Rome
BEGIN:VEVENT
UID:43923@lazioeventi.com
DTSTART;TZID=Europe/Rome;VALUE=DATE:20260307
DTEND;TZID=Europe/Rome;VALUE=DATE:20260316
DTSTAMP:20260304T104908Z
URL:https://lazioeventi.com/eventi/mostra-premio-internazionale-della-arti
SUMMARY:Mostra Premio Internazionale della Arti - Viterbo - 7 Marzo 26 00:0
 0
DESCRIPTION:Da Sabato 7 a domenica 15 marzo 2026\, a Viterbo\, in via San L
 orenzo n. 18\, ospite della AEGallery*\, mostra-premio internazionale dell
 e arti Contro La Violenza Sottile con il patrocinio di Regione Lazio\, Pro
 vincia di Viterbo\, Assessorato ai servizi sociali del Comune di Viterbo e
  consigliera di pari opportunità della Provincia di Viterbo organizzata d
 a Tuscia in Fiore ETS.\n\nDefinizione: La violenza sottile è rappresentat
 a da atteggiamenti\, convinzioni\, parole\, gesti che nel quotidiano feris
 cono le donne\, spesso\, senza consapevolezza da parte di chi offende.\n\n
 È rappresentata dalle espressioni più nascoste della cultura che non rie
 sce a raggiungere la parità dei sessi con inquietanti ripercussioni su ge
 sti ed abitudini arrivando agli estremi della violenza fisica\, del femmin
 icidio e del bullismo in senso più ampio. La mostra ha un approccio pragm
 atico:\n- Serve il contributo degli artisti: un messaggio in forma diretta
  e raffinata\;\n- Serve una voce corale di tutta la società per affermarl
 o con decisione\;\n- Serve\, sopratutto\, il passaggio di consegne verso l
 e nuove generazioni\;\n\nLa mostra prevede visite guidate da psicologa-o e
  avvocata-o per le scuole nelle mattine da lunedì 9 a venerdì 13. Sabato
  7 marzo alle ore 18:30 vernissage e domenica 15 marzo alle ore 18:00 fini
 ssaggi con premiazione. L’evento è in collaborazione con il Centro Anti
 Violenza Penelope\, l’Associazione Erinna\, l’Associazione Kyanos\, Or
 dine degli Avvocati di Viterbo\, Ombre festival\, Istituto Fantappié\, Is
 tituto Egidi\, Tuscia in fiore\, Istituto psicologico europeo.\n\nEventi n
 ell’evento:\n- Mercoledì 11 marzo alle 21:00 presentazione gratuita del
  film “C’è ancora domani” di Paola Cortellesi.\n- Venerdì 13 alle 
 ore 18:00 Programma di intrattenimento a cura di Danza Viterbo - Centro di
  Produzione e Formazione\n- Sabato 14 ore 18:00 ”La donna nell’arte”
  Conferenza Fidapa\, presenta la professoressa Laura Principi\, Dir. Art. 
 di Tuscia in Fiore.\n\nAd ogni visitatore sarà proposto riempire un breve
  questionario\, in forma anonima\, con le impressione ricevute dalla mostr
 a.\n\nL’evento si conclude domenica 15 marzo 2026 con la premiazione del
  vincitore della mostra premio alla presenza delle autorità.\n\nTutti gli
  enti coinvolti stanno valutando di trasformare l’immagine vincitrice de
 lla mostra premio internazionale delle arti in un murales a Viterbo\, in u
 n punto di massima visibilità. Sponsor cercansi.\n\n* AEGallery messa a d
 isposizione da Eleonora Bonucci ed Andrea Serinelli
ATTACH;FMTTYPE=image/jpeg:https://lazioeventi.com/wp-content/uploads/2026/
 03/violenza-sottile.jpg
CATEGORIES:Arte e Cultura nel Lazio
LOCATION:Viterbo\, Comune\, Viterbo\, Viterbo\, Lazio\, Italia
GEO:42.417;12.1051
X-APPLE-STRUCTURED-LOCATION;VALUE=URI;X-ADDRESS=Comune\, Viterbo\, Viterbo\
 , Lazio\, Italia;X-APPLE-RADIUS=100;X-TITLE=Viterbo:geo:42.417,12.1051
END:VEVENT
BEGIN:VTIMEZONE
TZID:Europe/Rome
X-LIC-LOCATION:Europe/Rome
BEGIN:STANDARD
DTSTART:20251026T020000
TZOFFSETFROM:+0200
TZOFFSETTO:+0100
TZNAME:CET
END:STANDARD
END:VTIMEZONE
END:VCALENDAR