BEGIN:VCALENDAR
VERSION:2.0
PRODID:-//wp-events-plugin.com//7.2.3.1//EN
TZID:Europe/Rome
X-WR-TIMEZONE:Europe/Rome
BEGIN:VEVENT
UID:29710@lazioeventi.com
DTSTART;TZID=Europe/Rome:20220111T120000
DTEND;TZID=Europe/Rome:20220116T200000
DTSTAMP:20220107T104522Z
URL:https://lazioeventi.com/eventi/mostre-nei-bb-del-centro-di-roma
SUMMARY:Mostre nei B&B del centro di ROMA - Roma - 11 Gennaio 22 12:00
DESCRIPTION:Martedì 11 gennaio 2022 alle ore 18.00 inaugura il secondo app
 untamento di Post-Turismo\, un ciclo di mostre itineranti in tre diversi b
 &amp\;b del centro di Roma\, primo progetto outdoor di Post ex\, a cura di
  Giuliana Benassi.\n\nDopo l’appuntamento di dicembre che si è tenuto p
 resso un b&amp\;b nei pressi dei Musei Vaticani\, la seconda tappa si svol
 ge nell’area di Piazza Navona\, al civico 64 di via Monte Brianzo\, all
 ’interno di un appartamento solitamente approdo di turisti provenienti d
 a tutto il mondo. In questo spazio pseudo domestic\no si inseriscono le op
 ere di Eleonora Cerri Pecorella\, Grossi Maglioni\, LU. PA\, Andrea Martin
 ucci\, Jonida Prifti e Stefano Di Trapani (Acchiappashpirt)\, Giorgia Rugg
 iano\, dislocate nei locali del b&amp\;b come presenze sovrapposte all’a
 rredamento preesistente dello spazio.\nIl percorso espositivo tesse una so
 ttile trama narrativa dedicata al soprannaturale\, alla magia del teletras
 porto\, al fiabesco e all’aspetto spiritico dell’invisibilità.\nLa mo
 stra\, infatti\, vuole esasperare il luogo in quanto contesto di assenze\,
  più che di presenze\, immergendo le opere in una lettura “post-turisti
 ca” dove l’essere umano è dematerializzato\, immaginato o fuggito in 
 un altrove misterioso.\n\nProgramma delle performance\n&gt\;Jonida Prifti 
 e Stefano Di Trapani (Acchiappashpirt)\, C h a n g e\, martedì 11 gennaio
  dalle 18 alle 20\;\nC h a n g e è una performance poetico sonora animist
 a\, nella quale gli Acchiappashpirt (Jonida Prifti &amp\; Stefano Di Trapa
 ni) si faranno evocare dalla vita aliena che alberga oggetti e ambienti de
 lla location anziché il contrario. Un cambio di prospettiva per abbattere
  le pareti tra animato e inanimato\, nel tentativo di ricevere le giuste f
 requenze. Il titolo "Change" è ispirato all'omonima carta dei tarocchi di
  Aleister Crowley e Lady Frieda Harris.\n\n&gt\;LU.PA\, VACANZA TELETRANSP
 ORT HOLIDAYS\, martedì 11 gennaio dalle 18 alle 20\; da mercoledì 12 a d
 omenica 16 gennaio\, dalle 12 alle 19\;\nVACANZA TELETRANSPORT HOLIDAYS è
  un portale spazio-temporale per oggetti in disuso che vengono teletraspor
 tati in un luogo altro. Il visitatore può portare con sé oggetti di dime
 nsioni non superiori a 17X17cm per consegnarli al portale magico del telet
 rasporto. Il viaggio senza ritorno dell’oggetto viene attivato dalla mac
 china del teletrasporto in un luogo lontano\, in un tempo stimato di circa
  tre minuti. Al termine del viaggio verrà stampata una foto istantanea\, 
 che uscirà da una fessura apposita del portale\, a testimonianza del buon
  esito dello spostamento dell’oggetto nello spazio-tempo e della sua nuo
 va collocazione. La foto\, firmata da LU.PA\, rimarrà in dono all’ex pr
 oprietario dell’oggetto affidato al progetto VACANZA TELETRANSPORT HOLID
 AYS.\n\nIl progetto Post-turismo - realizzato nell’ambito dell’Avviso 
 Pubblico VitaminaG del programma GenerAzioniGiovani.it e finanziato dalle 
 Politiche Giovanili della Regione Lazio e dalla Presidenza del Consiglio d
 ei Ministri - Dipartimento per la Gioventù - nasce nel 2020\, quando dura
 nte il primo lockdown il centro storico di Roma è stato quasi totalmente 
 disabitato per via dell'assenza di turismo nazionale e internazionale. Que
 sto scenario apocalittico ha messo in luce più che mai una fragile soprav
 vivenza di equilibri labili e volubili proprio nel cuore della capitale\, 
 suggerendo perciò la visione di un mondo qui denominato -non senza ironia
 - “post-turistico”. Facendo leva su una riflessione più ampia legata 
 all’urbanistica e alla complessa maglia di strategie territoriali\, il p
 rogetto si vuole appropriare per tre settimane - tra dicembre 2021 e febbr
 aio 2022 - dell’estetica dei b&amp\;b del centro romano\, per trasformar
 e i locali turistici in spazi espositivi.\nGli artisti coinvolti\, italian
 i e stranieri\, sono tutti chiamati a presentare le proprie opere in una t
 ipologia di ambiente “domestico” standardizzato\, con la volontà di e
 sasperare attraverso i vari linguaggi\, narrazioni e visioni di nuovi scen
 ari futuri.\n\nA conclusione del ciclo delle tre mostre itineranti sarà p
 ubblicato un libro con la giovane casa editrice “Forse” diretta da Dav
 ide Caldarini e Giulia Cabassi\, idealmente concepito come ulteriore spazi
 o di riflessione e narrazione del progetto Post-Turismo.\n\nSecondo appunt
 amento\nquando: 11-16 Gennaio 2022 / apertura h 12-20\ninaugurazione: mart
 edì 11 Gennaio h 18:00\ndove: via Monte Brianzo\, 64 - Roma\nartisti: Ele
 onora Cerri Pecorella\, Grossi Maglioni\, LU.PA\, Andrea Martinucci\, Joni
 da Prifti e Stefano Di Trapani (Acchiappashpirt)\, Giorgia Ruggiano\n\nTer
 zo appuntamento\nquando: 8-13 Febbraio 2022 / apertura h 12-20\ninaugurazi
 one: martedì 8 Febbraio h 18:00\ndove: via Tasso\, 161 - Roma\nartisti: E
 lena Bellantoni\, Michela de Mattei\, Antonio Fiorentino\, Susanna Inglada
 \, Marta Mancini\, Lou Masduraud\, Gabriele Silli\n\nMisure anti-Covid\nÈ
  obbligatorio il Green Pass e l’uso della mascherina negli spazi interni
 .\nL’accesso è consentito a 10 persone alla volta.
ATTACH;FMTTYPE=image/jpeg:https://lazioeventi.com/wp-content/uploads/2022/
 01/Andrea-Martinucci.jpg
CATEGORIES:Arte e Cultura nel Lazio
LOCATION:Roma\, Via Leopardi\, Roma\, Roma\, Lazio\, Italia
GEO:41.8942;12.5017
X-APPLE-STRUCTURED-LOCATION;VALUE=URI;X-ADDRESS=Via Leopardi\, Roma\, Roma\
 , Lazio\, Italia;X-APPLE-RADIUS=100;X-TITLE=Roma:geo:41.8942,12.5017
END:VEVENT
BEGIN:VTIMEZONE
TZID:Europe/Rome
X-LIC-LOCATION:Europe/Rome
BEGIN:STANDARD
DTSTART:20211031T020000
TZOFFSETFROM:+0200
TZOFFSETTO:+0100
TZNAME:CET
END:STANDARD
END:VTIMEZONE
END:VCALENDAR