BEGIN:VCALENDAR
VERSION:2.0
PRODID:-//wp-events-plugin.com//7.2.3.1//EN
TZID:Europe/Rome
X-WR-TIMEZONE:Europe/Rome
BEGIN:VEVENT
UID:35869@lazioeventi.com
DTSTART;TZID=Europe/Rome;VALUE=DATE:20230617
DTEND;TZID=Europe/Rome;VALUE=DATE:20230619
DTSTAMP:20230612T094942Z
URL:https://lazioeventi.com/eventi/museo-nazionale-etrusco-di-villa-giulia
 -2
SUMMARY:Museo Nazionale Etrusco di Villa Giulia - Roma - 17 Giugno 23 00:00
DESCRIPTION:In occasione delle Giornate Europee dell'Archeologia:\n\nVilla 
 Giulia\, costruita da papa Giulio III tra il 1550 e il 1555\, rappresenta 
 uno splendido esempio di villa rinascimentale\, sorta come residenza subur
 bana\, analogamente ad altri complessi cinquecenteschi di Roma e dintorni.
  Al progetto e alla realizzazione parteciparono i più grandi artisti dell
 ’epoca: Vasari\, il Vignola e Ammannati. Dal 1889 accoglie il Museo di V
 illa Giulia che\, nato come Museo delle Antichità preromane\, in particol
 are falische\, si può oggi definire il più rappresentativo Museo Etrusco
 \, ricco di testimonianze provenienti dall'Etruria Meridionale\, ovvero da
 l territorio compreso tra il Tevere ed il mare Tirreno (alto Lazio). Sono 
 presenti alcune delle più importanti espressione artistiche etrusche insi
 eme a creazioni greche di altissimo livello.\n\nEsposizione\nRomarché 202
 3\nIn occasione delle Giornate Europee dell'Archeologia\, Museo ETRU accog
 lie Romarchè\, la manifestazione culturale annuale che promuove l'editori
 a e la comunicazione culturale ai diversi pubblici. Il tema dell’edizion
 e di quest’anno è "Natura&Cultura”. Vi aspettano conferenze\, present
 azioni di libri\, visite guidate\, laboratori didattici\, rievocazioni sto
 riche\, prodotti del territorio e molto altro.\n4.00 €\, Ci sono tariffe
  scontate\nDomenica 18 giugno de 09:00 à 19:00 et de 09:00 à 19:00\nSaba
 to 17 giugno de 09:00 à 19:00 et de 09:00 à 19:00
ATTACH;FMTTYPE=image/jpeg:https://lazioeventi.com/wp-content/uploads/2023/
 06/vallegiulia.jpg
CATEGORIES:Arte e Cultura nel Lazio
LOCATION:Roma\, Via Leopardi\, Roma\, Roma\, Lazio\, Italia
GEO:41.8942;12.5017
X-APPLE-STRUCTURED-LOCATION;VALUE=URI;X-ADDRESS=Via Leopardi\, Roma\, Roma\
 , Lazio\, Italia;X-APPLE-RADIUS=100;X-TITLE=Roma:geo:41.8942,12.5017
END:VEVENT
BEGIN:VTIMEZONE
TZID:Europe/Rome
X-LIC-LOCATION:Europe/Rome
BEGIN:DAYLIGHT
DTSTART:20230326T030000
TZOFFSETFROM:+0100
TZOFFSETTO:+0200
TZNAME:CEST
END:DAYLIGHT
END:VTIMEZONE
END:VCALENDAR