BEGIN:VCALENDAR
VERSION:2.0
PRODID:-//wp-events-plugin.com//7.2.3.1//EN
TZID:Europe/Rome
X-WR-TIMEZONE:Europe/Rome
BEGIN:VEVENT
UID:44243@lazioeventi.com
DTSTART;TZID=Europe/Rome:20260426T163000
DTEND;TZID=Europe/Rome:20260426T190000
DTSTAMP:20260415T074342Z
URL:https://lazioeventi.com/eventi/musi-sketch-serio-no-intonato-forse
SUMMARY:MUSI-SKETCH – Serio? No. Intonato? Forse - Roma - 26 Aprile 26 16
 :30
DESCRIPTION:Arriva a Roma uno spettacolo fresco\, travolgente e completamen
 te fuori dagli schemi: MUSI-SKETCH\, un mix esplosivo di teatro\, musica e
  comicità che promette di far ridere\, sorprendere e coinvolgere il pubbl
 ico dall’inizio alla fine.\nSul palco prende vita un vero e proprio viag
 gio tra sketch comici\, performance musicali e momenti di pura follia scen
 ica\, dove tutto può succedere. Le situazioni si susseguono a ritmo serra
 to\, tra gag esilaranti\, canzoni ironiche e personaggi sopra le righe.\nP
 rotagonisti dello spettacolo sono gli allievi di Francesca Borrelli\, che 
 portano in scena energia\, entusiasmo e tanta voglia di mettersi in gioco.
  Un gruppo affiatato che trasforma ogni momento in intrattenimento puro\, 
 creando un’atmosfera leggera\, dinamica e coinvolgente.\nMUSI-SKETCH non
  è solo uno spettacolo\, è un’esperienza:un flusso continuo di risate\
 , ritmo e improvvisazione\, dove il pubblico diventa parte integrante dell
 o show.
ATTACH;FMTTYPE=image/jpeg:https://lazioeventi.com/wp-content/uploads/2026/
 04/Con-la-Partecipazione-di-1-1-1.jpg
CATEGORIES:Musica, Spettacoli e Danza nel Lazio
LOCATION:Roma\, Via Leopardi\, Roma\, Roma\, Lazio\, Italia
GEO:41.8942;12.5017
X-APPLE-STRUCTURED-LOCATION;VALUE=URI;X-ADDRESS=Via Leopardi\, Roma\, Roma\
 , Lazio\, Italia;X-APPLE-RADIUS=100;X-TITLE=Roma:geo:41.8942,12.5017
END:VEVENT
BEGIN:VTIMEZONE
TZID:Europe/Rome
X-LIC-LOCATION:Europe/Rome
BEGIN:DAYLIGHT
DTSTART:20260329T030000
TZOFFSETFROM:+0100
TZOFFSETTO:+0200
TZNAME:CEST
END:DAYLIGHT
END:VTIMEZONE
END:VCALENDAR