BEGIN:VCALENDAR
VERSION:2.0
PRODID:-//wp-events-plugin.com//7.2.3.1//EN
TZID:Europe/Rome
X-WR-TIMEZONE:Europe/Rome
BEGIN:VEVENT
UID:32120@lazioeventi.com
DTSTART;TZID=Europe/Rome:20220911T110000
DTEND;TZID=Europe/Rome:20220911T234500
DTSTAMP:20220829T185828Z
URL:https://lazioeventi.com/eventi/musica-e-artigianato-2
SUMMARY:Musica e artigianato - Fiuggi - 11 Settembre 22 11:00
DESCRIPTION:La Pro Loco di Fiuggi promuove l’evento “Musica e artigiana
 to” che avrà luogo il giorno 11 Settembre 2022 presso il parco Helmsted
 t di Fiuggi dalle ore 11 alle ore 24.\n\nDurante l'evento ci sarà la vend
 ita di prodotti di hobby e artigianato\, inoltre\, verranno svolte altre a
 ttività\, quali intrattenimento per bambini dalle ore 11.30 alle ore 13 e
  dalle ore 16 alle ore 18\, dove i bambini potranno dilettarsi con clown\,
  giochi di magia e palloncini. \n\nSono previsti due spettacoli musicali: 
 il primo\, alle ore 18 alle ore 20\, con il gruppo “Compl8” ed il seco
 ndo dalle ore 21 alle ore 24\, dove ci sarà un revival degli anni ’70\,
  ’80 ’90 con DjPinky.
ATTACH;FMTTYPE=image/jpeg:https://lazioeventi.com/wp-content/uploads/2022/
 08/musica-artigianato-proloco-settembre.jpg
CATEGORIES:Sport, Tempo Libero e Divertimento nel Lazio,Musica, Spettacoli
 e Danza nel Lazio
LOCATION:Fiuggi\, Comune di Fiuggi\, Fiuggi\, Frosinone\, Lazio\, Italia
GEO:41.8039;13.2218
X-APPLE-STRUCTURED-LOCATION;VALUE=URI;X-ADDRESS=Comune di Fiuggi\, Fiuggi\,
  Frosinone\, Lazio\, Italia;X-APPLE-RADIUS=100;X-TITLE=Fiuggi:geo:41.8039,
 13.2218
END:VEVENT
BEGIN:VTIMEZONE
TZID:Europe/Rome
X-LIC-LOCATION:Europe/Rome
BEGIN:DAYLIGHT
DTSTART:20220327T030000
TZOFFSETFROM:+0100
TZOFFSETTO:+0200
TZNAME:CEST
END:DAYLIGHT
END:VTIMEZONE
END:VCALENDAR