BEGIN:VCALENDAR
VERSION:2.0
PRODID:-//wp-events-plugin.com//7.2.3.1//EN
TZID:Europe/Rome
X-WR-TIMEZONE:Europe/Rome
BEGIN:VEVENT
UID:30357@lazioeventi.com
DTSTART;TZID=Europe/Rome:20220409T100000
DTEND;TZID=Europe/Rome:20220409T140000
DTSTAMP:20220405T090324Z
URL:https://lazioeventi.com/eventi/musica-in-cammino
SUMMARY:Musica in cammino - Cottanello - 9 Aprile 22 10:00
DESCRIPTION:"Canti popolari itineranti nel paesaggio d'altura dei prati di 
 Cottanello"\nCanti contadini\, d'amore e transumanza dal centro e sud Ital
 ia\, trekking musicale e naturalistico con guida ambientale escursionistic
 a\n\nDESCRIZIONE\nRiprendiamo gli appuntamenti di Musica in Cammino nel pa
 esaggio della monticazione (pascolo in quota) dei prati di Cottanello\, un
 a passeggiata musicale che è come un tuffo nella storia e nella memoria c
 ontadina/pastorale e ci lasceremo trasportare da suoni e melodie che prove
 ngono dalla tradizione popolare del centro e sud Italia.\nUn'ora di musica
  a contatto con la natura con Giulia Tripoti (voce\, chitarra\, tamburi a 
 cornice) e Andrea Pullone (chitarra\, cori) in tre diverse postazioni\, ch
 e raggiungerete grazie al trekking guidato della guida ambientale escursio
 nistica Lucio Graziano.\n\nLA MUSICA:\nViaggeremo per più di un'ora dal s
 ud al centro Italia\, attraverso canti popolari che parlano di contadini\,
  transumanza\, amore e nostalgia verso la propria terra d'origine. Le tre 
 postazioni musicali saranno le tappe di questo viaggio che ci porterà dal
 la Sicilia fino alla Sabina. La performance musicale è organizzata in mod
 o tale da non disturbare la fauna e diventare un tuttuno con la natura che
  la circonda.\n\nIL PAESAGGIO:\nI pascoli a circa 800m oggi\, come dal med
 ioevo\, sono frequentati da numerosissimi animali: cavalli\, mucche\, peco
 re e capre si ritrovano spesso in compagnia di maiali allo stato brado. La
  strada che attraversa questo paesaggio si snoda tra alberi secolari\, pra
 ti rasati dal pascolo\, boschi e pozze carsiche\, il territorio racconta u
 na storia molto antica fortemente segnata dall’impronta lasciata dai rom
 ani. La guida ambientale escursionistica Lucio Graziano vi immergerà nel 
 meraviglioso paesaggio dei prati di Cottanello attraverso natura\, storia\
 , geologia\, botanica\, tradizioni locali.\n\nDATI TECNICI:\nOra di inizio
 : h. 10:00\nDurata: 4h (con pausa pranzo)\nPostazioni musicali: 3\nLunghez
 za del percorso: 5 km circa\nDislivello: 260m circa\nDifficoltà: facile (
 necessaria una pur minima attitudine/abitudine al cammino).\nEquipaggiamen
 to obbligatorio:\nScarpe da trekking alte\;\nCalzettoni da trekking\;\nBas
 toncini da trekking o altro tipo di supporto (anche reperito in loco)\;\nA
 cqua\;\nTelo x sedersi sul prato (consigliato)\n\nCOSTO:\n20€ a persona\
 n18€ SE SI PRENOTA ENTRO MER 30/03\nSCADENZA PRENOTAZIONI: VEN 08/04\nIs
 crizione obbligatoria\n\nPRENOTAZIONI:\nhttps://forms.gle/BErM4gYMPpt6K3Ds
 5\n\nL'EVENTO SI SVOLGERA' CON UN MINIMO DI 10 ISCRIZIONI
ATTACH;FMTTYPE=image/jpeg:https://lazioeventi.com/wp-content/uploads/2022/
 04/musica-in-cammino.jpg
CATEGORIES:Musica, Spettacoli e Danza nel Lazio,Sport, Tempo Libero e
 Divertimento nel Lazio
LOCATION:Cottanello\, Comune\, Cottanello\, Rieti\, Lazio\, Italia
GEO:42.4062;12.6865
X-APPLE-STRUCTURED-LOCATION;VALUE=URI;X-ADDRESS=Comune\, Cottanello\, Rieti
 \, Lazio\, Italia;X-APPLE-RADIUS=100;X-TITLE=Cottanello:geo:42.4062,12.686
 5
END:VEVENT
BEGIN:VTIMEZONE
TZID:Europe/Rome
X-LIC-LOCATION:Europe/Rome
BEGIN:DAYLIGHT
DTSTART:20220327T030000
TZOFFSETFROM:+0100
TZOFFSETTO:+0200
TZNAME:CEST
END:DAYLIGHT
END:VTIMEZONE
END:VCALENDAR