BEGIN:VCALENDAR
VERSION:2.0
PRODID:-//wp-events-plugin.com//7.2.3.1//EN
TZID:Europe/Rome
X-WR-TIMEZONE:Europe/Rome
BEGIN:VEVENT
UID:30602@lazioeventi.com
DTSTART;TZID=Europe/Rome:20220430T150000
DTEND;TZID=Europe/Rome:20220430T230000
DTSTAMP:20220421T054510Z
URL:https://lazioeventi.com/eventi/musica-maestro-e-giochi-per-bambini
SUMMARY:Musica maestro e giochi per bambini - Vicovaro - 30 Aprile 22 15:00
DESCRIPTION:La Pro-Loco di Vicovaro presenta\n"Musica maestro e giochi per 
 bambini"\n\n 	ore 15:00 Inizio giochi e intrattenimento bambini\n 	ore 16:
 00 Torneo di carte (iscrizione gratuita)\n 	ore 18:00 Maratona Musicale:\n
 \n 	Balli di gruppo e musica dal vivo con il “Music Open Space” - Paol
 o Di Feo"\n 	Wodfama (Litfiba Tributo Band)\n 	Orchestra Popolare Aniene (
 canzoni romane e napoletane)\n 	Rock Band (finalisti Sanremo Rock)\n 	Root
  Square (pop internazionale)\n 	Ospite a sorpresa!\n\n\n\n----------------
 -----------------\n\nAll’interno della festa stand gastronomici:\n\n 	pa
 nini con salsiccia e porchetta\n 	hot dog\n 	hamburger\n 	arrosticini\n\n-
 --------------------------------\n\nL'associazione si declina da ogni resp
 onsabilità.\nLa manifestazione si svolgerà nel rispetto delle norme covi
 d.
ATTACH;FMTTYPE=image/jpeg:https://lazioeventi.com/wp-content/uploads/2022/
 04/musica-maestro.jpg
CATEGORIES:Musica, Spettacoli e Danza nel Lazio,Sport, Tempo Libero e
 Divertimento nel Lazio
LOCATION:Vicovaro\, Comune\, Vicovaro\, Roma\, Lazio\, Italia
GEO:42.015;12.8922
X-APPLE-STRUCTURED-LOCATION;VALUE=URI;X-ADDRESS=Comune\, Vicovaro\, Roma\, 
 Lazio\, Italia;X-APPLE-RADIUS=100;X-TITLE=Vicovaro:geo:42.015,12.8922
END:VEVENT
BEGIN:VTIMEZONE
TZID:Europe/Rome
X-LIC-LOCATION:Europe/Rome
BEGIN:DAYLIGHT
DTSTART:20220327T030000
TZOFFSETFROM:+0100
TZOFFSETTO:+0200
TZNAME:CEST
END:DAYLIGHT
END:VTIMEZONE
END:VCALENDAR