BEGIN:VCALENDAR
VERSION:2.0
PRODID:-//wp-events-plugin.com//7.2.3.1//EN
TZID:Europe/Rome
X-WR-TIMEZONE:Europe/Rome
BEGIN:VEVENT
UID:36406@lazioeventi.com
DTSTART;TZID=Europe/Rome:20230721T180000
DTEND;TZID=Europe/Rome:20230723T234500
DTSTAMP:20230721T204022Z
URL:https://lazioeventi.com/eventi/muso-festival
SUMMARY:Muso Festival - Oriolo Romano - 21 Luglio 23 18:00
DESCRIPTION:20 anni di locura estiva!\n\nTre serate di musica dal vivo al P
 arco di Villa Altieri a Oriolo Romano (VT)\, con area libri e fumetti\, be
 er station\, bar\, stand gastronomici e selezioni artistiche e artigianali
 .\n\nAperti dall’aperitivo\nInizio concerti ore 21:00\nInizio Dj Set ore
  00.30 (solo venerdì e sabato)\n\nINGRESSO GRATUITO\n\nSabato 22\nTheMent
 os - (Ska\, Folk\, Rock ‘n’ Roll)\nHi-Shine - (Reggae\, Dub\, Raggamuf
 fin)\nMondocane - Dj set (Afrobeat\, Psichedelia\, Tribal)\nDomenica 23\nK
 os & The Buskings - (Urban Triphop/ Funk)\nPerro\, NC\, Coch & Scuro - (Hi
 p Hop)\nAssanti Frontali - (Hip Hop)\n\nOltre alla musica\n- Area Libri: c
 on una selezione di titoli in vendita della Libreria Straffi di Viterbo pe
 r gli amanti della lettura di tutte le età\, dai libri ai fumetti.\nNella
  stessa area troverete il merchandising dei gruppi e del festival\, non so
 ltanto le immancabili magliette del Muso\, ma anche delle specialità limi
 tate della XX Edizione\;\n- Stand gastronomici: pietanze per tutti i gusti
  con i prodotti del territorio\, da gustare nel verde del parco\;\n- Beer 
 Station\n- Wine bar\n- Cocktail bar: con i drink preparati dal bartender M
 anfredi Mezzo Muso\, direttamente da "Al 77" di Viterbo\;\n- Selezioni art
 istiche e artigianali: stand e bancarelle di artigiani.
ATTACH;FMTTYPE=image/jpeg:https://lazioeventi.com/wp-content/uploads/2023/
 07/muso-festival.jpg
CATEGORIES:Musica, Spettacoli e Danza nel Lazio
LOCATION:Oriolo Romano\, Comune di Oriolo Romano\, Oriolo Romano\, Viterbo\
 , Lazio\, Italia
GEO:42.1589;12.1382
X-APPLE-STRUCTURED-LOCATION;VALUE=URI;X-ADDRESS=Comune di Oriolo Romano\, O
 riolo Romano\, Viterbo\, Lazio\, Italia;X-APPLE-RADIUS=100;X-TITLE=Oriolo 
 Romano:geo:42.1589,12.1382
END:VEVENT
BEGIN:VTIMEZONE
TZID:Europe/Rome
X-LIC-LOCATION:Europe/Rome
BEGIN:DAYLIGHT
DTSTART:20230326T030000
TZOFFSETFROM:+0100
TZOFFSETTO:+0200
TZNAME:CEST
END:DAYLIGHT
END:VTIMEZONE
END:VCALENDAR